BEGIN:VCALENDAR
VERSION:2.0
PRODID:-//jEvents 2.0 for Joomla//EN
CALSCALE:GREGORIAN
METHOD:PUBLISH
BEGIN:VEVENT
UID:ce1ff5cb1cd583c879f22609dfcaa033
CATEGORIES:3. Bezirk
CREATED:19700101T010000
SUMMARY:Musikgarten
LOCATION:Der Kreativraum
DESCRIPTION:www.derkreativraum.at (http://www.derkreativraum.at)\n
X-ALT-DESC;FMTTYPE=text/html:<p><a href="http://www.derkreativraum.at">www.derkreativraum.at</a></p>
CONTACT:06643935509 oder office@derkreativraum.at (Mag. Gyda Federer)
X-EXTRAINFO:[preis='17600'][anmeldung='true']
DTSTAMP:20260423T202404
DTSTART:20220914T081000
DTEND:20220914T090000
SEQUENCE:0
RRULE:FREQ=WEEKLY;COUNT=10;INTERVAL=1;BYDAY=WE
TRANSP:OPAQUE
END:VEVENT
END:VCALENDAR