BEGIN:VCALENDAR
VERSION:2.0
PRODID:-//jEvents 2.0 for Joomla//EN
CALSCALE:GREGORIAN
METHOD:PUBLISH
BEGIN:VEVENT
UID:c6b7b9dcb80aa6afde5c4a0da8f43f04
CATEGORIES:3. Bezirk
CREATED:19700101T010000
SUMMARY:Musikgarten
LOCATION:Der Kreativraum
DESCRIPTION:<p><a href="http://www.derkreativraum.at">www.derkreativraum.at</a></p>
CONTACT:06643935509 oder office@derkreativraum.at (Mag. Gyda Federer)
X-EXTRAINFO:[preis='17600'][anmeldung='true']
DTSTAMP:20260423T190229
DTSTART:20220914T092000
DTEND:20220914T101000
SEQUENCE:0
RRULE:FREQ=WEEKLY;COUNT=10;INTERVAL=1;BYDAY=WE
TRANSP:OPAQUE
END:VEVENT
END:VCALENDAR