BEGIN:VCALENDAR
VERSION:2.0
PRODID:-//jEvents 2.0 for Joomla//EN
CALSCALE:GREGORIAN
METHOD:PUBLISH
BEGIN:VEVENT
UID:146daf578a30187cf7d51aaddff2b7f3
CATEGORIES:3. Bezirk
CREATED:19700101T010000
SUMMARY:Sing- und Bewegungsmäuse
LOCATION:Der Kreativraum
DESCRIPTION:<p><a href="http://www.derkreativraum.at">www.derkreativraum.at</a></p>
CONTACT:06643935509 oder office@derkreativraum.at (Mag. Gyda Federer)
X-EXTRAINFO:[preis='16000'][anmeldung='true']
DTSTAMP:20260423T190300
DTSTART:20220915T073000
DTEND:20220915T082000
SEQUENCE:0
RRULE:FREQ=WEEKLY;COUNT=10;INTERVAL=1;BYDAY=TH
TRANSP:OPAQUE
END:VEVENT
END:VCALENDAR