BEGIN:VCALENDAR
VERSION:2.0
PRODID:-//jEvents 2.0 for Joomla//EN
CALSCALE:GREGORIAN
METHOD:PUBLISH
BEGIN:VEVENT
UID:1d2b31481eaeb7f67eb567f9ed45f551
CATEGORIES:3. Bezirk
CREATED:19700101T010000
SUMMARY:Märchentanz
LOCATION:Der Kreativraum
DESCRIPTION:<p><a href="http://www.derkreativraum.at">www.derkreativraum.at</a></p>
CONTACT:06643935509 oder office@derkreativraum.at (Mag. Gyda Federer)
X-EXTRAINFO:[preis='17600'][anmeldung='true']
DTSTAMP:20260423T190422
DTSTART:20220927T130000
DTEND:20220927T135000
SEQUENCE:0
RRULE:FREQ=WEEKLY;COUNT=10;INTERVAL=1;BYDAY=TU
TRANSP:OPAQUE
END:VEVENT
END:VCALENDAR