BEGIN:VCALENDAR
VERSION:2.0
PRODID:-//jEvents 2.0 for Joomla//EN
CALSCALE:GREGORIAN
METHOD:PUBLISH
BEGIN:VEVENT
UID:996c8809afa227eb7605a4719fd67885
CATEGORIES:3. Bezirk
CREATED:19700101T010000
SUMMARY:Kindertheater
LOCATION:Der Kreativraum
DESCRIPTION:<p><a href="http://www.derkreativraum.at">www.derkreativraum.at</a></p>
CONTACT:06643935509 oder office@derkreativraum.at
X-EXTRAINFO:[preis='17600'][anmeldung='true']
DTSTAMP:20260423T160632
DTSTART:20220927T150000
DTEND:20220927T155000
SEQUENCE:0
RRULE:FREQ=WEEKLY;COUNT=10;INTERVAL=1;BYDAY=TU
TRANSP:OPAQUE
END:VEVENT
END:VCALENDAR