BEGIN:VCALENDAR
VERSION:2.0
PRODID:-//jEvents 2.0 for Joomla//EN
CALSCALE:GREGORIAN
METHOD:PUBLISH
BEGIN:VEVENT
UID:0563e996ff01a799ecb493916d682a17
CATEGORIES:2. Bezirk
CREATED:20220915T142932
SUMMARY:Austauschgruppe für Mamas nach Kaiserschnittgeburten
LOCATION:Kind &amp; Kegel\, Praterstraße 14/8\, 1020 Wien
DESCRIPTION:Für Mamas und Babys, die mit den Folgen eines ungeplanten Kaiserschnitts od
 er eines Notkaiserschnitts zu kämpfen haben. Hier ist Platz, um in geschütz
 tem Rahmen Fragen zu stellen, sich auszutauschen und viele hilfreiche Tipps
  und Anregungen zu bekommen.\nAnmeldung unter: hallo@susanneschmid.at (mail
 to:hallo@susanneschmid.at) oder über das Eltern-Kind Zentrum Kind &amp; Keg
 el\n
X-ALT-DESC;FMTTYPE=text/html:<p>Für Mamas und Babys, die mit den Folgen eines ungeplanten Kaiserschnitts
  oder eines Notkaiserschnitts zu kämpfen haben. Hier ist Platz, um in gesch
 ütztem Rahmen Fragen zu stellen, sich auszutauschen und viele hilfreiche Ti
 pps und Anregungen zu bekommen.</p><p>Anmeldung unter: <a href="mailto:hall
 o@susanneschmid.at">hallo@susanneschmid.at</a> oder über das Eltern-Kind Ze
 ntrum Kind &amp; Kegel</p>
CONTACT:hallo@susanneschmid.at
X-EXTRAINFO:[preis='1500'][anmeldung='true']
DTSTAMP:20260423T185943
DTSTART:20220920T083000
DTEND:20220920T100000
SEQUENCE:0
TRANSP:OPAQUE
END:VEVENT
END:VCALENDAR