BEGIN:VCALENDAR
VERSION:2.0
PRODID:-//jEvents 2.0 for Joomla//EN
CALSCALE:GREGORIAN
METHOD:PUBLISH
BEGIN:VEVENT
UID:34dada63eb44af1c78dcd47ff8229b33
CATEGORIES:6. Bezirk
CREATED:20220922T084331
SUMMARY:Bio-Beikost-Picknick
LOCATION:6.\, San
DESCRIPTION:Der Beikoststart ist für Babys, aber natürlich auch Mamas und Papas ein gro
 ßer Meilenstein in der Entwicklung.\n\nUnd wie das so oft im Elterndasein i
 st beschäftigt sich auch hier das Mama- und Papahirn mit unendlich vielen F
 ragen, wie\n- „Wann ist mein Baby soweit neben (Mutter-)milch auch anderes 
 zu essen?“\n- „Wie soll ich die Beikost einführen?“\n- „Brei?, Breifrei? Od
 er doch was anderes?“\n- „Füttern vs. selbstbestimmtes Essen“\n- „Wann muss
  oder darf ich Wasser und sonstige Flüssigkeiten einführen?“\n- „Bei welche
 n Lebensmitteln ist Vorsicht geboten?“\nAll diese und noch viel mehr Fragen
  geistern in unseren Köpfen herum.\n\nBei der Beikost gibt es viele verschi
 edene Wege und besonders wichtig ist uns, dass ihr hier euren individuellen
  Weg findet. Und um diesen finden zu können bekommt ihr von uns, Corina und
  Martina, die wichtigsten Dinge, auf die geachtet werden können, mit auf eu
 ren Weg. Denn dann wird der Beikoststart ganz easy!\n\nUnd da wir der feste
 n Überzeugung sind, dass Wissen viel leichter vermittelt wird, wenn man dab
 ei entspannt, mit Spaß und vor allem auch praktisch an die Sacher heran geh
 t haben wir unseren Workshop in den Rahmen eines Picknicks gepackt.\n\nEsse
 n und Lernen mit allen Sinnen ist nicht nur für uns, sondern auch für unser
 e Babys eine wichtige Unterstützung.\nDeswegen sind alle Speisen und Geträn
 ke aus biologischem und ökologischem Anbau und für Babys ab Beikostreife ge
 eignet zubereitet.\nUm die Vielfalt an Lebensmittel für euch bereitstellen 
 zu können wurde dieser Workshop von Adamah BioHof gesponsert!\n\nWann: folg
 ende Termine stehen zur Auswahl\nSo., 9. Oktober 2022\nSo., 19. Februar 202
 2\n\nUhrzeit: jeweiils 10.30 - 13.00 Uhr\nKosten: € 59,- pro 1 Elternteil m
 it Kind, Familienpreis € 99,-\nOrt: Biolino Institut\ninkl. Vortrag mit fac
 hlicher Beratung, Handout, Lebensmittel und selbstgemachte Speisen in Bio-Q
 alität, Rezepten, Büchertisch zum Stöbern, Kaffee für die Eltern, in kleine
 r Runde!\n\nmit Expertin Corina Zahola\nund Martina Novak\n \nAnmeldung: ht
 tps://www.biolino.at/kurse-und-workshops-1/workshops-mit-corina-zahola/\nWi
 r freuen uns auf dich!\nCorina und Martina\n
X-ALT-DESC;FMTTYPE=text/html:<p>Der <strong>Beikoststart</strong> ist für Babys, aber natürlich auch Mam
 as und Papas ein großer Meilenstein in der Entwicklung.<br /><br />Und wie 
 das so oft im Elterndasein ist beschäftigt sich auch hier das Mama- und Pap
 ahirn mit unendlich vielen Fragen, wie<br />- „Wann ist mein Baby soweit ne
 ben (Mutter-)milch auch anderes zu essen?“<br />- „Wie soll ich die Beikost
  einführen?“<br />- „Brei?, Breifrei? Oder doch was anderes?“<br />- „Fütte
 rn vs. selbstbestimmtes Essen“<br />- „Wann muss oder darf ich Wasser und s
 onstige Flüssigkeiten einführen?“<br />- „Bei welchen Lebensmitteln ist Vor
 sicht geboten?“<br />All diese und noch viel mehr Fragen geistern in unsere
 n Köpfen herum.<br /><br />Bei der Beikost gibt es viele verschiedene Wege 
 und besonders wichtig ist uns, dass ihr hier euren individuellen Weg findet
 . Und um diesen finden zu können bekommt ihr von uns, Corina und Martina, d
 ie wichtigsten Dinge, auf die geachtet werden können, mit auf euren Weg. De
 nn dann wird der Beikoststart ganz easy!<br /><br />Und da wir der festen Ü
 berzeugung sind, dass Wissen viel leichter vermittelt wird, wenn man dabei 
 entspannt, mit Spaß und vor allem auch praktisch an die Sacher heran geht h
 aben wir unseren Workshop in den Rahmen eines Picknicks gepackt.<br /><br /
 >Essen und Lernen mit allen Sinnen ist nicht nur für uns, sondern auch für 
 unsere Babys eine wichtige Unterstützung.<br />Deswegen sind alle Speisen u
 nd Getränke aus biologischem und ökologischem Anbau und für Babys ab Beikos
 treife geeignet zubereitet.<br />Um die Vielfalt an Lebensmittel für euch b
 ereitstellen zu können wurde dieser Workshop von Adamah BioHof gesponsert!<
 br /><br />Wann: folgende Termine stehen zur Auswahl<br />So., 9. Oktober 2
 022<br />So., 19. Februar 2022</p><p><br />Uhrzeit: jeweiils 10.30 - 13.00 
 Uhr<br />Kosten: € 59,- pro 1 Elternteil mit Kind, Familienpreis € 99,-<br 
 />Ort: Biolino Institut<br />inkl. Vortrag mit fachlicher Beratung, Handout
 , Lebensmittel und selbstgemachte Speisen in Bio-Qalität, Rezepten, Büchert
 isch zum Stöbern, Kaffee für die Eltern, in kleiner Runde!<br /><br />mit E
 xpertin Corina Zahola<br />und Martina Novak</p><p> </p><p>Anmeldung: <a hr
 ef="https://www.biolino.at/kurse-und-workshops-1/workshops-mit-corina-zahol
 a/">https://www.biolino.at/kurse-und-workshops-1/workshops-mit-corina-zahol
 a/</a></p><p>Wir freuen uns auf dich!</p><p>Corina und Martina</p>
CONTACT:martina.novak@biolino.at, 067762892970
X-EXTRAINFO:[preis='5900'][anmeldung='true']
DTSTAMP:20260423T171520
DTSTART:20221009T083000
DTEND:20221009T110000
SEQUENCE:0
TRANSP:OPAQUE
END:VEVENT
END:VCALENDAR