BEGIN:VCALENDAR
VERSION:2.0
PRODID:-//jEvents 2.0 for Joomla//EN
CALSCALE:GREGORIAN
METHOD:PUBLISH
BEGIN:VEVENT
UID:a0cb3f274c2ce21d5e60c17a1f3006f0
CATEGORIES:6. Bezirk
CREATED:20220922T084814
SUMMARY:Workshop „Hausmittel für Kinder und Babys“
LOCATION:6.\, Sandwirtgasse 13/12
DESCRIPTION:Workshop „Hausmittel für Kinder und Babys“In diesem Workshop lernst du schn
 elle und einfache Anwendungen kennen, die du zu Hause in deine Hausmittel- 
 Apotheke mit aufnehmen und so auch an deine Kinder und Kindeskinder weiterg
 eben kannst. Viele Zutaten für Hausmittel sind in jeder Küche zu finden und
  können bei Husten, Schnupfen, Halsweh &amp; Co schnell zum Einsatz kommen.
  Kränkliche Kinder genießen außerdem die intensive, liebevolle Zuwendung de
 r Eltern. So werden die kleinen Schätze schnell wieder gesund!\n- Das Hausm
 ittel-ABC - schnelle Hilfe bei milden Infekten\n- Einfache Hustensäfte selb
 er machen\n- Körperwickel- und Auflagen kennenlernen\n- Schürfwunden und In
 sektenstiche - schnelle Hilfe aus der Pflanzenwelt\n- Welche Hausmittel - K
 räuter dürfen in keinem Garten oder Balkon fehlen?\nWann: Freitag, 30. Sept
 ember 2022\nUhrzeit: 17.00 - 20.00 Uhr\nKosten: € 45,-  pro Pers., inkl. Sk
 riptum + 2 praktisch hergestellter Hausmittel zum Mitnehmen\nOrt:  Biolino 
 Institut, Sandwirtgasse 13/12, 1060 Wien\nAnmeldung unter:\nhttps://bit.ly/
 3LBZ8OI (https://bit.ly/3LBZ8OI) \n\nwww.amilou.at (http://www.amilou.at/)\
 n \nDaniela freut sich auf dich!\n
X-ALT-DESC;FMTTYPE=text/html:<h3>Workshop „Hausmittel für Kinder und Babys“</h3><p>In diesem Workshop le
 rnst du schnelle und einfache Anwendungen kennen, die du zu Hause in deine 
 Hausmittel- Apotheke mit aufnehmen und so auch an deine Kinder und Kindeski
 nder weitergeben kannst. Viele Zutaten für Hausmittel sind in jeder Küche z
 u finden und können bei Husten, Schnupfen, Halsweh &amp; Co schnell zum Ein
 satz kommen. Kränkliche Kinder genießen außerdem die intensive, liebevolle 
 Zuwendung der Eltern. So werden die kleinen Schätze schnell wieder gesund!<
 /p><p>- Das Hausmittel-ABC - schnelle Hilfe bei milden Infekten</p><p>- Ein
 fache Hustensäfte selber machen</p><p>- Körperwickel- und Auflagen kennenle
 rnen</p><p>- Schürfwunden und Insektenstiche - schnelle Hilfe aus der Pflan
 zenwelt</p><p>- Welche Hausmittel - Kräuter dürfen in keinem Garten oder Ba
 lkon fehlen?</p><p><strong>Wann:</strong> Freitag, 30. September 2022</p><p
 ><strong>Uhrzeit:</strong> 17.00 - 20.00 Uhr</p><p><strong>Kosten:</strong>
  € 45,-  pro Pers., inkl. Skriptum + 2 praktisch hergestellter Hausmittel z
 um Mitnehmen</p><p><strong>Ort: </strong> Biolino Institut, Sandwirtgasse 1
 3/12, 1060 Wien</p><p><strong>Anmeldung unter:</strong></p><p><strong><a hr
 ef="https://bit.ly/3LBZ8OI">https://bit.ly/3LBZ8OI</a> <br /></strong></p><
 p><a href="http://www.amilou.at/">www.amilou.at</a></p><p> </p><p>Daniela f
 reut sich auf dich!</p>
CONTACT:https://bit.ly/3LBZ8OI
X-EXTRAINFO:[preis='4500'][anmeldung='true']
DTSTAMP:20260423T141750
DTSTART:20220930T150000
DTEND:20220930T180000
SEQUENCE:0
TRANSP:OPAQUE
END:VEVENT
END:VCALENDAR