BEGIN:VCALENDAR
VERSION:2.0
PRODID:-//jEvents 2.0 for Joomla//EN
CALSCALE:GREGORIAN
METHOD:PUBLISH
BEGIN:VEVENT
UID:22ad772b352d8d9d0549ee892cc31c82
CATEGORIES:6. Bezirk
CREATED:20220922T085212
SUMMARY:Geschwistervorbereitung: Elternworkshop
LOCATION:6.\, Sandwirtgasse 13/12
DESCRIPTION:Geschwistervorbereitung: ElternworkshopEin Geschwisterchen ist unterwegs\n 
 \nWenn sich ein Geschwisterchen ankündigt bedeutet das eine große Veränderu
 ng für die Erstgeborenen. Eine liebevolle, altersgerechte Vorbereitung und 
 das Miteinbeziehen der bald älteren Geschwister, bietet sowohl Kind(ern) al
 s auch Eltern die Möglichkeit, entspannter und harmonischer in die neue Fam
 iliensituation hineinzuwachsen und das neue Familienmitglied von Herzen wil
 lkommen zu heißen.\n\n \nTermin: Donnerstag, 13. Oktober 2022\n\nUhrzeit: 1
 5.00 bis 17.00 Uhr\nKosten: € 59,- pro Person und € 79,- pro Paar\ninkl. Fa
 chvortrag, Handout, Heißgetränk, Büchertisch\nExpertin: Denise Winkler\n \n
 Dein Kind kann gerne mitkommen.\n \nWir freuen uns auf dich!\nDenise und Ma
 rtina\n
X-ALT-DESC;FMTTYPE=text/html:<div id="cc-m-11862491497" class="j-module n j-text "><h3 id="cc-m-header-1
 1862487697" class="">Geschwistervorbereitung: Elternworkshop</h3><p><span c
 lass="tojvnm2t a6sixzi8 abs2jz4q a8s20v7p t1p8iaqh k5wvi7nf q3lfd5jv pk4s99
 7a bipmatt0 cebpdrjk qowsmv63 owwhemhu dp1hu0rb dhp61c6y iyyx5f41"><strong>
 Ein Geschwisterchen ist unterwegs</strong></span></p><p> </p><p><span class
 ="tojvnm2t a6sixzi8 abs2jz4q a8s20v7p t1p8iaqh k5wvi7nf q3lfd5jv pk4s997a b
 ipmatt0 cebpdrjk qowsmv63 owwhemhu dp1hu0rb dhp61c6y iyyx5f41">Wenn sich ei
 n Geschwisterchen ankündigt bedeutet das eine große Veränderung für die Ers
 tgeborenen. Eine liebevolle, altersgerechte Vorbereitung und das Miteinbezi
 ehen der bald älteren Geschwister, bietet sowohl Kind(ern) als auch Eltern 
 die Möglichkeit, entspannter und harmonischer in die neue Familiensituation
  hineinzuwachsen und das neue Familienmitglied von Herzen willkommen zu hei
 ßen.<br /></span></p><p> </p></div><div id="cc-m-11862491297" class="j-modu
 le n j-text "><p><strong>Termin:</strong> Donnerstag, 13. Oktober 2022<stro
 ng><br /></strong></p><p><strong>Uhrzeit:</strong> 15.00 bis 17.00 Uhr</p><
 p><strong>Kosten</strong>: € 59,- pro Person und € 79,- pro Paar</p><p>inkl
 . Fachvortrag, Handout, Heißgetränk, Büchertisch</p><p><strong>Expertin:</s
 trong> Denise Winkler</p><p> </p><p>Dein Kind kann gerne mitkommen.</p><p> 
 </p><p>Wir freuen uns auf dich!</p><p>Denise und Martina</p></div>
CONTACT:martina.novak@biolino.at, 067762892970
X-EXTRAINFO:[preis='5900'][anmeldung='true']
DTSTAMP:20260423T141641
DTSTART:20221013T130000
DTEND:20221013T150000
SEQUENCE:0
TRANSP:OPAQUE
END:VEVENT
END:VCALENDAR