BEGIN:VCALENDAR
VERSION:2.0
PRODID:-//jEvents 2.0 for Joomla//EN
CALSCALE:GREGORIAN
METHOD:PUBLISH
BEGIN:VEVENT
UID:3e730ab79f39f4c1c8688b445c65a895
CATEGORIES:6. Bezirk
CREATED:20220922T090154
SUMMARY:Biolino Familien-Atelier
LOCATION:6.\, Sandwirtgasse 13/12
DESCRIPTION:<p>Im Biolino Familien-Atelier können große und kleine Künstlerinnen und Kü
 nstler nach Herzenslust mit unseren selbst hergestellten Bio-Farben matsche
 n und gatschen, ohne dass Mama oder Papa nachher aufräumen müssen. Kommt ge
 rne als Familie bei uns vorbei und verbringt einen kunterbunten Vormittag b
 ei uns.<br />Programm<br /><br />Was erwartet dich?<br />Es wird klebrig, m
 atschig, bröselig, kratzig: Sand, Erde, Getreidekörner, Holz und viele ande
 re haptische Anregungen warten auf experimentierfreudige Entdecker*innen. D
 ie Kinder können nach Herzenslust die Bio-Farben und Materialien mischen un
 d dabei mit allen Sinnen erleben, wie sie ihre Eigenschaften verändern.<br 
 />Am Ende gibt es für die Kleinen ein wohlig warmes Bad!<br /><br />Du kenn
 st das bestimmt: Manchen Kindern gefallen sandige Hände und klebrige Füße s
 ehr, andere wiederum brauchen Zeit, um sich damit anzufreunden. Genau diese
  Zeit und den Freiraum geben wir dir und deinem Kind im Biolino Familien-At
 elier. Damit folgen wir auch der Idee von Pädagoge Arno Stern, der das hemm
 ungslose, spielerische Malen und Experimentieren als "Rückkehr zum wahren W
 esen" sieht.<br /><br />Termine im Wintersemester 2022/2023<br />16. Oktobe
 r 2022<br />20. November 2022<br />11. Dezember 2022<br />22. Jänner 2023<b
 r />Uhrzeit: jeweils 10.00 - 12.00 Uhr<br /><br />Kosten:  € 49.- für die g
 anze Familie ( 1 Elternpaar und ihre Kinder)<br />inkl. Material und biolog
 ischer Jause für die ganze Familie</p><p> </p><p>Ich freue mich auf einen b
 unten Vormittag mit euch!</p><p>Martina</p>
CONTACT:martina.novak@biolino.at, 067762892970
X-EXTRAINFO:[preis='4900'][anmeldung='true']
DTSTAMP:20260423T171959
DTSTART:20221211T090000
DTEND:20221211T110000
SEQUENCE:0
TRANSP:OPAQUE
END:VEVENT
END:VCALENDAR