BEGIN:VCALENDAR
VERSION:2.0
PRODID:-//jEvents 2.0 for Joomla//EN
CALSCALE:GREGORIAN
METHOD:PUBLISH
BEGIN:VEVENT
UID:819e5a054f7cea73f38fdb31469f0b65
CATEGORIES:6. Bezirk
CREATED:20220922T090639
SUMMARY:Workshop: Veranwortete Schuld. Was ist das und wozu brauche ich das?
LOCATION:6.\, Sandwirtgasse 13/12
DESCRIPTION:VERANTWORTETE SCHULD – Was ist das und wozu brauche ich das?Über Klarheit, 
 Kommunikation und Verantwortung\nAb und an stehen wir vor Situationen, wo w
 ir unserem Kind ein Bedürfnis nicht erfüllen können. Oder wollen.\nDas bede
 utet, dass wir Entscheidungen treffen, die unangenehm sind für das Kind und
  mitunter Frust, Schmerz und Wut hervorrufen.\nZu wissen, aus welchen Gründ
 en eine Entscheidung getroffen wird, wirkt sich auch auf die Kommunikation 
 mit unserem Kind aus.\nWie wir das Kind durch seine Gefühle liebevoll begle
 iten können und was das mit Verantwortung zu tun hat, wollen wir gemeinsam 
 ergründen.\nWann: Do., 13. Oktober 2022\nUhrzeit: 18.00 - 20:00 Uhr\n\nKost
 en: € 49,- pro Person / € 73,- pro Paar\n \nAnmeldung: https://www.biolino.
 at/kurse-und-workshops-1/workshops-mit-xenia-wagner-deutsch/\n \nWir freuen
  uns auf dich!\nXenia und Martina\n
X-ALT-DESC;FMTTYPE=text/html:<div id="cc-m-12220848397" class="j-module n j-header "><h3 id="cc-m-header
 -12220848397" class="">VERANTWORTETE SCHULD – Was ist das und wozu brauche 
 ich das?</h3></div><div id="cc-m-12220848597" class="j-module n j-text "><p
 ><strong>Über Klarheit, Kommunikation und Verantwortung</strong></p><p>Ab u
 nd an stehen wir vor Situationen, wo wir unserem Kind ein Bedürfnis nicht e
 rfüllen können. Oder wollen.</p><p>Das bedeutet, dass wir Entscheidungen tr
 effen, die unangenehm sind für das Kind und mitunter Frust, Schmerz und Wut
  hervorrufen.</p><p>Zu wissen, aus welchen Gründen eine Entscheidung getrof
 fen wird, wirkt sich auch auf die Kommunikation mit unserem Kind aus.</p><p
 >Wie wir das Kind durch seine Gefühle liebevoll begleiten können und was da
 s mit Verantwortung zu tun hat, wollen wir gemeinsam ergründen.</p></div><d
 iv id="cc-m-12220854397" class="j-module n j-text "><p><strong>Wann:</stron
 g> Do., 13. Oktober 2022</p><p><strong>Uhrzeit:</strong> 18.00 - 20:00 Uhr<
 strong><br /></strong></p><p><strong>Kosten:</strong> € 49,- pro Person / €
  73,- pro Paar</p><p> </p><p>Anmeldung: <a href="https://www.biolino.at/kur
 se-und-workshops-1/workshops-mit-xenia-wagner-deutsch/">https://www.biolino
 .at/kurse-und-workshops-1/workshops-mit-xenia-wagner-deutsch/</a></p><p> </
 p><p>Wir freuen uns auf dich!</p><p>Xenia und Martina</p></div>
CONTACT:martina.novak@biolino.at, 067762892970
X-EXTRAINFO:[preis='4900'][anmeldung='true']
DTSTAMP:20260423T184149
DTSTART:20221013T160000
DTEND:20221013T180000
SEQUENCE:0
TRANSP:OPAQUE
END:VEVENT
END:VCALENDAR