BEGIN:VCALENDAR
VERSION:2.0
PRODID:-//jEvents 2.0 for Joomla//EN
CALSCALE:GREGORIAN
METHOD:PUBLISH
BEGIN:VEVENT
UID:41ef45a83fdfc3d7ccc9b54fe6e1942f
CATEGORIES:6. Bezirk
CREATED:19700101T010000
SUMMARY:Baby-Cafe
LOCATION:6.\, Sandwirtgasse 13/12
DESCRIPTION:Baby-CaféKaffeehaus-Flair mit KinderspielzeugBei richtig gutem Fair-Trade-K
 affee und leckerem selbstgemachten Bio-Gugelhupf kannst du dich entspannt z
 urücklehnen, deinem Kind beim Spielen in unseren übersichtlichen, kindersic
 heren Räumlichkeiten zusehen und mit anderen Mamas und Papas plaudern.\nWir
  laden dich und dein Kind montags und freitags in unser Biolino Baby-Café (
 https://www.biolino.at/baby-cafe/) ein. Bei biologischem Fair-Trade Kaffee,
  auf Wunsch auch koffeinfrei oder mit Pflanzenmilch, leckerem Bio-Kuchen un
 d österreichischen Bio-Fruchtsäften lässt es sich besonders gut plaudern un
 d spielen. Wir achten bei der Auswahl unserer Holzspielsachen darauf, dass 
 sie frei von Schadstoffen sind und nutzen Bio-Bambus Geschirr von Biobu.\n 
 \nWann: Montag und Freitag   (außer an den schulfreien Tagen)\nUhrzeit: 9.0
 0 - 12.00 Uhr\nWo: Biolino Institut, Sandwirtgasse 13, 1060 Wien\nKosten: €
  12,- Eintritt inkl. Bio-Kaffee (oder Bio-Tee, Bio-Kakao, Bio-Saft) und Bio
 -Gugelhupf (oder Bio-Obst) und Spielebeitrag Nur Barzahlung!\nEs gibt Platz
  für 6-8 Kinderwägen. Bei gutem Wetter kannst du auch im geschützten Innenh
 of parken. Wenn es dir möglich ist, komm gerne mit deiner Tragehilfe - so h
 aben wir alle mehr Platz zum Wohlfühlen.\nMIT ANMELDUNG!\nwww.biolino.at (h
 ttp://www.biolino.at/)\n \nSchau vorbei zum Spielen und Plaudern.\nIch freu
 e mich auf dich!\nAlles Liebe,\nMartina\n
X-ALT-DESC;FMTTYPE=text/html:<h1>Baby-Café</h1><h2>Kaffeehaus-Flair mit Kinderspielzeug</h2><p><strong>B
 ei richtig gutem Fair-Trade-Kaffee und leckerem selbstgemachten Bio-Gugelhu
 pf kannst du dich entspannt zurücklehnen, deinem Kind beim Spielen in unser
 en übersichtlichen, kindersicheren Räumlichkeiten zusehen und mit anderen M
 amas und Papas plaudern.</strong></p><p>Wir laden dich und dein Kind montag
 s und freitags in unser <a href="https://www.biolino.at/baby-cafe/">Biolino
  Baby-Café</a> ein. Bei biologischem Fair-Trade Kaffee, auf Wunsch auch kof
 feinfrei oder mit Pflanzenmilch, leckerem Bio-Kuchen und österreichischen B
 io-Fruchtsäften lässt es sich besonders gut plaudern und spielen. Wir achte
 n bei der Auswahl unserer Holzspielsachen darauf, dass sie frei von Schadst
 offen sind und nutzen Bio-Bambus Geschirr von Biobu.</p><p> </p><p><strong>
 Wann</strong>: Montag und Freitag   (außer an den schulfreien Tagen)</p><p>
 <strong>Uhrzeit</strong>: 9.00 - 12.00 Uhr</p><p><strong>Wo</strong>: Bioli
 no Institut, Sandwirtgasse 13, 1060 Wien</p><p><strong>Kosten</strong>: € 1
 2,- Eintritt inkl. Bio-Kaffee (oder Bio-Tee, Bio-Kakao, Bio-Saft) und Bio-G
 ugelhupf (oder Bio-Obst) und Spielebeitrag Nur Barzahlung!</p><p>Es gibt Pl
 atz für <strong>6-8 Kinderwägen</strong>. Bei gutem Wetter kannst du auch i
 m geschützten Innenhof parken. Wenn es dir möglich ist, komm gerne mit dein
 er Tragehilfe - so haben wir alle mehr Platz zum Wohlfühlen.</p><p><strong>
 MIT ANMELDUNG!</strong></p><p><a href="http://www.biolino.at/">www.biolino.
 at</a></p><p> </p><p>Schau vorbei zum Spielen und Plaudern.</p><p>Ich freue
  mich auf dich!</p><p>Alles Liebe,</p><p>Martina</p>
CONTACT:martina.novak@biolino.at, 067762892970
X-EXTRAINFO:[preis='1200'][anmeldung='true']
DTSTAMP:20260423T172352
DTSTART:20220923T070000
DTEND:20220923T100000
SEQUENCE:0
RRULE:FREQ=WEEKLY;UNTIL=20221217T000000Z;INTERVAL=1;BYDAY=FR
TRANSP:OPAQUE
END:VEVENT
END:VCALENDAR