BEGIN:VCALENDAR
VERSION:2.0
PRODID:-//jEvents 2.0 for Joomla//EN
CALSCALE:GREGORIAN
METHOD:PUBLISH
BEGIN:VEVENT
UID:7d864fd884cff6624be6782faf748f4b
CATEGORIES:6. Bezirk
CREATED:20220922T091637
SUMMARY:Baby-Cafe
LOCATION:6.\, Sandwirtgasse 13/12
DESCRIPTION:Baby-CaféKaffeehaus-Flair mit KinderspielzeugBei richtig gutem Fair-Trade-K
 affee und leckerem selbstgemachten Bio-Gugelhupf kannst du dich entspannt z
 urücklehnen, deinem Kind beim Spielen in unseren übersichtlichen, kindersic
 heren Räumlichkeiten zusehen und mit anderen Mamas und Papas plaudern.\nWir
  laden dich und dein Kind montags und freitags in unser Biolino Baby-Café (
 https://www.biolino.at/baby-cafe/) ein. Bei biologischem Fair-Trade Kaffee,
  auf Wunsch auch koffeinfrei oder mit Pflanzenmilch, leckerem Bio-Kuchen un
 d österreichischen Bio-Fruchtsäften lässt es sich besonders gut plaudern un
 d spielen. Wir achten bei der Auswahl unserer Holzspielsachen darauf, dass 
 sie frei von Schadstoffen sind und nutzen Bio-Bambus Geschirr von Biobu.\n 
 \nWann: Donnerstag\nUhrzeit: 15.00 - 17.00 Uhr\nWo: Biolino Institut, Sandw
 irtgasse 13, 1060 Wien\nKosten: € 12,- Eintritt inkl. Bio-Kaffee (oder Bio-
 Tee, Bio-Kakao, Bio-Saft) und Bio-Gugelhupf (oder Bio-Obst) und Spielebeitr
 ag Nur Barzahlung!\nEs gibt Platz für 6-8 Kinderwägen. Bei gutem Wetter kan
 nst du auch im geschützten Innenhof parken. Wenn es dir möglich ist, komm g
 erne mit deiner Tragehilfe - so haben wir alle mehr Platz zum Wohlfühlen.\n
 MIT ANMELDUNG!\nwww.biolino.at (http://www.biolino.at/)\nTermine im Winters
 emester 2022/2023:\n29. September 2022\n06. Oktober 2022\n20. Oktober 2022\
 n3. November 2022\n17. November 2022\n1. Dezember 2022\n15. Dezember 2022\n
 12. Jänner 2023\n19. Jänner 2023\n \nSchau vorbei zum Spielen und Plaudern.
 \nIch freue mich auf dich!\nAlles Liebe,\nMartina\n
X-ALT-DESC;FMTTYPE=text/html:<div class="eventContent"><h1>Baby-Café</h1><h2>Kaffeehaus-Flair mit Kinder
 spielzeug</h2><p><strong>Bei richtig gutem Fair-Trade-Kaffee und leckerem s
 elbstgemachten Bio-Gugelhupf kannst du dich entspannt zurücklehnen, deinem 
 Kind beim Spielen in unseren übersichtlichen, kindersicheren Räumlichkeiten
  zusehen und mit anderen Mamas und Papas plaudern.</strong></p><p>Wir laden
  dich und dein Kind montags und freitags in unser <a href="https://www.biol
 ino.at/baby-cafe/">Biolino Baby-Café</a> ein. Bei biologischem Fair-Trade K
 affee, auf Wunsch auch koffeinfrei oder mit Pflanzenmilch, leckerem Bio-Kuc
 hen und österreichischen Bio-Fruchtsäften lässt es sich besonders gut plaud
 ern und spielen. Wir achten bei der Auswahl unserer Holzspielsachen darauf,
  dass sie frei von Schadstoffen sind und nutzen Bio-Bambus Geschirr von Bio
 bu.</p><p> </p><p><strong>Wann</strong>: Donnerstag</p><p><strong>Uhrzeit</
 strong>: 15.00 - 17.00 Uhr</p><p><strong>Wo</strong>: Biolino Institut, San
 dwirtgasse 13, 1060 Wien</p><p><strong>Kosten</strong>: € 12,- Eintritt ink
 l. Bio-Kaffee (oder Bio-Tee, Bio-Kakao, Bio-Saft) und Bio-Gugelhupf (oder B
 io-Obst) und Spielebeitrag Nur Barzahlung!</p><p>Es gibt Platz für <strong>
 6-8 Kinderwägen</strong>. Bei gutem Wetter kannst du auch im geschützten In
 nenhof parken. Wenn es dir möglich ist, komm gerne mit deiner Tragehilfe - 
 so haben wir alle mehr Platz zum Wohlfühlen.</p><p><strong>MIT ANMELDUNG!</
 strong></p><p><a href="http://www.biolino.at/">www.biolino.at</a></p><p>Ter
 mine im Wintersemester 2022/2023:</p><p style="line-height: 18.200000762939
 5px; text-align: left;"><span style="line-height: 18.2000007629395px; text-
 align: left; font-size: 13px;">29. September 2022</span></p><p style="line-
 height: 18.2000007629395px; text-align: left;"><span style="line-height: 18
 .2000007629395px; text-align: left; font-size: 13px;">06. Oktober 2022</spa
 n></p><p style="line-height: 18.2000007629395px; text-align: left;"><span s
 tyle="line-height: 18.2000007629395px; text-align: left; font-size: 13px;">
 20. Oktober 2022</span></p><p style="line-height: 18.2000007629395px; text-
 align: left;"><span style="line-height: 18.2000007629395px; text-align: lef
 t; font-size: 13px;">3. November 2022</span></p><p style="line-height: 18.2
 000007629395px; text-align: left;"><span style="line-height: 18.20000076293
 95px; text-align: left; font-size: 13px;">17. November 2022</span></p><p st
 yle="line-height: 18.2000007629395px; text-align: left;"><span style="line-
 height: 18.2000007629395px; text-align: left; font-size: 13px;">1. Dezember
  2022</span></p><p style="line-height: 18.2000007629395px; text-align: left
 ;"><span style="line-height: 18.2000007629395px; text-align: left; font-siz
 e: 13px;">15. Dezember 2022</span></p><p style="line-height: 18.20000076293
 95px; text-align: left;"><span style="line-height: 18.2000007629395px; text
 -align: left; font-size: 13px;">12. Jänner 2023</span></p><p style="line-he
 ight: 18.2000007629395px; text-align: left;"><span style="line-height: 18.2
 000007629395px; text-align: left; font-size: 13px;">19. Jänner 2023</span><
 /p><p> </p><p>Schau vorbei zum Spielen und Plaudern.</p><p>Ich freue mich a
 uf dich!</p><p>Alles Liebe,</p><p>Martina</p></div>
CONTACT:martina.novak@biolino.at, 067762892970
X-EXTRAINFO:[preis='000'][anmeldung='true']
DTSTAMP:20260423T141644
DTSTART:20220929T130000
DTEND:20220929T150000
SEQUENCE:0
TRANSP:OPAQUE
END:VEVENT
END:VCALENDAR