BEGIN:VCALENDAR
VERSION:2.0
PRODID:-//jEvents 2.0 for Joomla//EN
CALSCALE:GREGORIAN
METHOD:PUBLISH
BEGIN:VEVENT
UID:2f42b8ec609f5683220811126679368a
CATEGORIES:6. Bezirk
CREATED:20220922T091728
SUMMARY:Baby-Cafe
LOCATION:6.\, Sandwirtgasse 13/12
DESCRIPTION:<div class="eventContent"><h1>Baby-Café</h1><h2>Kaffeehaus-Flair mit Kinder
 spielzeug</h2><p><strong>Bei richtig gutem Fair-Trade-Kaffee und leckerem s
 elbstgemachten Bio-Gugelhupf kannst du dich entspannt zurücklehnen, deinem 
 Kind beim Spielen in unseren übersichtlichen, kindersicheren Räumlichkeiten
  zusehen und mit anderen Mamas und Papas plaudern.</strong></p><p>Wir laden
  dich und dein Kind montags und freitags in unser <a href="https://www.biol
 ino.at/baby-cafe/">Biolino Baby-Café</a> ein. Bei biologischem Fair-Trade K
 affee, auf Wunsch auch koffeinfrei oder mit Pflanzenmilch, leckerem Bio-Kuc
 hen und österreichischen Bio-Fruchtsäften lässt es sich besonders gut plaud
 ern und spielen. Wir achten bei der Auswahl unserer Holzspielsachen darauf,
  dass sie frei von Schadstoffen sind und nutzen Bio-Bambus Geschirr von Bio
 bu.</p><p> </p><p><strong>Wann</strong>: Donnerstag</p><p><strong>Uhrzeit</
 strong>: 15.00 - 17.00 Uhr</p><p><strong>Wo</strong>: Biolino Institut, San
 dwirtgasse 13, 1060 Wien</p><p><strong>Kosten</strong>: € 12,- Eintritt ink
 l. Bio-Kaffee (oder Bio-Tee, Bio-Kakao, Bio-Saft) und Bio-Gugelhupf (oder B
 io-Obst) und Spielebeitrag Nur Barzahlung!</p><p>Es gibt Platz für <strong>
 6-8 Kinderwägen</strong>. Bei gutem Wetter kannst du auch im geschützten In
 nenhof parken. Wenn es dir möglich ist, komm gerne mit deiner Tragehilfe - 
 so haben wir alle mehr Platz zum Wohlfühlen.</p><p><strong>MIT ANMELDUNG!</
 strong></p><p><a href="http://www.biolino.at/">www.biolino.at</a></p><p>Ter
 mine im Wintersemester 2022/2023:</p><p style="line-height: 18.200000762939
 5px; text-align: left;"><span style="line-height: 18.2000007629395px; text-
 align: left; font-size: 13px;">29. September 2022</span></p><p style="line-
 height: 18.2000007629395px; text-align: left;"><span style="line-height: 18
 .2000007629395px; text-align: left; font-size: 13px;">06. Oktober 2022</spa
 n></p><p style="line-height: 18.2000007629395px; text-align: left;"><span s
 tyle="line-height: 18.2000007629395px; text-align: left; font-size: 13px;">
 20. Oktober 2022</span></p><p style="line-height: 18.2000007629395px; text-
 align: left;"><span style="line-height: 18.2000007629395px; text-align: lef
 t; font-size: 13px;">3. November 2022</span></p><p style="line-height: 18.2
 000007629395px; text-align: left;"><span style="line-height: 18.20000076293
 95px; text-align: left; font-size: 13px;">17. November 2022</span></p><p st
 yle="line-height: 18.2000007629395px; text-align: left;"><span style="line-
 height: 18.2000007629395px; text-align: left; font-size: 13px;">1. Dezember
  2022</span></p><p style="line-height: 18.2000007629395px; text-align: left
 ;"><span style="line-height: 18.2000007629395px; text-align: left; font-siz
 e: 13px;">15. Dezember 2022</span></p><p style="line-height: 18.20000076293
 95px; text-align: left;"><span style="line-height: 18.2000007629395px; text
 -align: left; font-size: 13px;">12. Jänner 2023</span></p><p style="line-he
 ight: 18.2000007629395px; text-align: left;"><span style="line-height: 18.2
 000007629395px; text-align: left; font-size: 13px;">19. Jänner 2023</span><
 /p><p> </p><p>Schau vorbei zum Spielen und Plaudern.</p><p>Ich freue mich a
 uf dich!</p><p>Alles Liebe,</p><p>Martina</p></div>
CONTACT:martina.novak@biolino.at, 067762892970
X-EXTRAINFO:[preis='1200'][anmeldung='true']
DTSTAMP:20260423T141925
DTSTART:20221006T130000
DTEND:20221006T150000
SEQUENCE:0
TRANSP:OPAQUE
END:VEVENT
END:VCALENDAR