BEGIN:VCALENDAR
VERSION:2.0
PRODID:-//jEvents 2.0 for Joomla//EN
CALSCALE:GREGORIAN
METHOD:PUBLISH
BEGIN:VEVENT
UID:9aa6768d58d99d04090182ecf5a8c531
CATEGORIES:19. Bezirk
CREATED:20220922T201434
SUMMARY:Waldspielgruppe
LOCATION:Cobenzl
DESCRIPTION:Mit einer kleinen Wanderung (ca. 1 km) kommen wir zu unserm Platz im Wald. 
 Hier gibt es einen gemeinsamen Beginn mit Begrüßungsliedern und Jause. Nach
  der Stärkung lassen wir uns von den Kindern und vom Wald leiten: Gemeinsam
  spielen, singen, den Wald erkunden und mit allen Sinnen erfahren, Stöcke s
 ammeln, Tiere finden, balancieren, Zapfen werfen,… Das Unterwegssein in der
  Natur (über Wurzeln, durchs Laub und auf unebenem Boden) bietet vielseitig
 e Sinneserfahrungen und Spielanregungen. Durch das freie Spiel wird der Umg
 ang mit der Natur auf achtsame Weise erfahren. Nach der Freispielzeit gibt 
 es ein Abschlusslied, und wir machen uns auf den Weg zurück.\n \n2. Termin:
  7.10.\n
X-ALT-DESC;FMTTYPE=text/html:<p>Mit einer kleinen Wanderung (ca. 1 km) kommen wir zu unserm Platz im Wal
 d. Hier gibt es einen gemeinsamen Beginn mit Begrüßungsliedern und Jause. N
 ach der Stärkung lassen wir uns von den Kindern und vom Wald leiten: Gemein
 sam spielen, singen, den Wald erkunden und mit allen Sinnen erfahren, Stöck
 e sammeln, Tiere finden, balancieren, Zapfen werfen,… Das Unterwegssein in 
 der Natur (über Wurzeln, durchs Laub und auf unebenem Boden) bietet vielsei
 tige Sinneserfahrungen und Spielanregungen. Durch das freie Spiel wird der 
 Umgang mit der Natur auf achtsame Weise erfahren. Nach der Freispielzeit gi
 bt es ein Abschlusslied, und wir machen uns auf den Weg zurück.</p><p> </p>
 <p>2. Termin: 7.10.</p>
CONTACT: rundumgeburt@nanaya.at
X-EXTRAINFO:[preis='3200'][anmeldung='true']
DTSTAMP:20260423T155318
DTSTART:20220930T080000
DTEND:20220930T093000
SEQUENCE:0
TRANSP:OPAQUE
END:VEVENT
END:VCALENDAR