BEGIN:VCALENDAR
VERSION:2.0
PRODID:-//jEvents 2.0 for Joomla//EN
CALSCALE:GREGORIAN
METHOD:PUBLISH
BEGIN:VEVENT
UID:285ecbd02328aeb556ea873b0d7d0f93
CATEGORIES:Wien Umgebung
CREATED:20220926T125534
SUMMARY:Halloween-Kreativparty
LOCATION:craftort Lanzendorf bei Wien
DESCRIPTION:<div class="m8h3af8h l7ghb35v kjdc1dyq kmwttqpk gh25dzvf">Wir feiern eine g
 ruselig, bunte Halloween-Kreativparty mit Malen, Basteln und Spielen.</div>
 <div class="l7ghb35v kjdc1dyq kmwttqpk gh25dzvf jikcssrz">Alle, die möchten
 , können gerne verkleidet kommen.</div><div class="l7ghb35v kjdc1dyq kmwttq
 pk gh25dzvf jikcssrz"> </div><div class="l7ghb35v kjdc1dyq kmwttqpk gh25dzv
 f jikcssrz">Wann: Sonntag, 30.10.22</div><div class="l7ghb35v kjdc1dyq kmwt
 tqpk gh25dzvf jikcssrz"> </div><div class="l7ghb35v kjdc1dyq kmwttqpk gh25d
 zvf jikcssrz">Bitte die Uhrzeiten je nach Alter des Kindes beachten.</div><
 div class="l7ghb35v kjdc1dyq kmwttqpk gh25dzvf jikcssrz">Für Kinder von 1,5
  bis 4 Jahre (+ 1 Begleitperson) -&gt; 10-12 Uhr<br />Für Kinder von 5 bis 
 10 Jahre (ohne Begleitperson!) -&gt; 15-17 Uhr</div><div class="l7ghb35v kj
 dc1dyq kmwttqpk gh25dzvf jikcssrz"> </div><div class="l7ghb35v kjdc1dyq kmw
 ttqpk gh25dzvf jikcssrz">Kosten: 39,-€, Geschwisterkinder 33,-€ (inkl. Mate
 rial, Obst &amp; Saft)</div><div class="l7ghb35v kjdc1dyq kmwttqpk gh25dzvf
  jikcssrz"> </div><div class="l7ghb35v kjdc1dyq kmwttqpk gh25dzvf jikcssrz"
 >ANMELDUNG mit Namen &amp; Telefonnummer, Namen &amp; Alter des Kindes per 
 E-Mail an: info@craftort.at</div><div class="l7ghb35v kjdc1dyq kmwttqpk gh2
 5dzvf jikcssrz">Mindestteilnehmerzahl: 5</div><div class="l7ghb35v kjdc1dyq
  kmwttqpk gh25dzvf jikcssrz"> </div><div class="l7ghb35v kjdc1dyq kmwttqpk 
 gh25dzvf jikcssrz">Wo: „craftort“, Andreas Radlinger-Str. 1a, 2326 Lanzendo
 rf b. Wien<br />&gt;Öffentliche Verkehrsmittel: S-Bahn (vom Hbf Wien) bis L
 anzendorf-Rannersdorf Bhf + Bus bis Gärtnerei oder Fußweg (ca 15 Min),<br /
 >&gt;Mit dem Auto: S1 Abfahrt Rannersdorf. Öffentliche Parkplätze vorhanden
 .</div><div class="l7ghb35v kjdc1dyq kmwttqpk gh25dzvf jikcssrz"> </div><di
 v class="l7ghb35v kjdc1dyq kmwttqpk gh25dzvf jikcssrz">Ich freue mich auf k
 unterbunte Workshops mit euch, eure Sonja!</div><div class="l7ghb35v kjdc1d
 yq kmwttqpk gh25dzvf jikcssrz"> </div><div class="l7ghb35v kjdc1dyq kmwttqp
 k gh25dzvf jikcssrz">Änderungen und Durchführung vorbehalten.</div><div cla
 ss="l7ghb35v kjdc1dyq kmwttqpk gh25dzvf jikcssrz"> </div><div class="l7ghb3
 5v kjdc1dyq kmwttqpk gh25dzvf jikcssrz">Die nächsten Termine:<br />So. 06.1
 1.22 Laternen-Kreativworkshop<br />So, 27.11.22 Winter- &amp; Advents-Kreat
 ivworkshop<br />Details in der jeweiligen Facebook-Veranstaltung und auf de
 r Webseite.<br />Anmeldung per E-Mail erforderlich.</div>
CONTACT:www.craftort.at
X-EXTRAINFO:[preis='3900'][anmeldung='true']
DTSTAMP:20260423T190331
DTSTART:20221030T090000
DTEND:20221030T110000
SEQUENCE:0
TRANSP:OPAQUE
END:VEVENT
END:VCALENDAR