BEGIN:VCALENDAR
VERSION:2.0
PRODID:-//jEvents 2.0 for Joomla//EN
CALSCALE:GREGORIAN
METHOD:PUBLISH
BEGIN:VEVENT
UID:1dfee28de919a768b98423d8947cc8b4
CATEGORIES:8. Bezirk
CREATED:20220926T211627
SUMMARY:Kling Bim - Kinderkonzert
LOCATION:Kabarett Niedermair
DESCRIPTION:"Wenn der Floh Walzer tanzt" - Fantastische Tierlieder\nKomm! Sing und tanz
  mit!\nKinderkonzert des Kinderlieder Trios Kling-Bim im Kabarett Niedermai
 r.\nKarten, Reservierungen und Infos www.niermair.at (http://www.niermair.a
 t) \n
X-ALT-DESC;FMTTYPE=text/html:<p>"Wenn der Floh Walzer tanzt" - Fantastische Tierlieder</p><p>Komm! Sing 
 und tanz mit!</p><p>Kinderkonzert des Kinderlieder Trios Kling-Bim im Kabar
 ett Niedermair.</p><p>Karten, Reservierungen und Infos <a href="http://www.
 niermair.at">www.niermair.at</a> </p>
CONTACT:www.niedermair.at
X-EXTRAINFO:[anmeldung='true']
DTSTAMP:20260423T094534
DTSTART:20221008T140000
SEQUENCE:0
TRANSP:OPAQUE
END:VEVENT
END:VCALENDAR