BEGIN:VCALENDAR
VERSION:2.0
PRODID:-//jEvents 2.0 for Joomla//EN
CALSCALE:GREGORIAN
METHOD:PUBLISH
BEGIN:VEVENT
UID:7a062bdfc7b87789d7c6a438e51bd960
CATEGORIES:13. Bezirk
CREATED:19700101T010000
SUMMARY:mamaFIT mit Dani Family Workout in Schönbrunn Hietzing
LOCATION:Schönbrunn Hietzinger Tor
DESCRIPTION:FAMILY WORKOUT mit mamaFIT mit Dani im Schlosspark Schönbrunn\n \nTreffpunk
 t: Liegewiese, 150m links nach Eingang Hietzinger Tor. Die nächste Halteste
 lle der öffentlichen Verkehrsmittel ist Hietzing (U4, 10, 52, 60, 51A, 56A,
  56B, 58A)\n \nWann: Samstag oder Sonntag\nDatum, Ort und Uhrzeit wird in d
 er WhatsApp Gruppe zeitgerecht bekanntgegeben.\n \nVerena und ich werden un
 s so gut es geht abwechseln und informieren euch zeitgerecht in unseren Wha
 tsapp Gruppen und über Social Media, wann, wo und bei wem das Family Workou
 t stattfindet.\n \nEs gelten die Kurskarten von mamaFIT mit Verena UND mama
 FIT mit Dani.\n \nMein Family Workout findet vorerst in SCHÖNBRUNN / Hietzi
 nger Seite, statt. Treffpunkt ist wie immer die Liegewiese (Hietzinger Tor,
  150m gerade hinein, dann links).\n \nWenn Verena das Family Workout macht,
  dann findet dieses entweder in SCHÖNBRUNN / Meidlinger Tor oder im AUER-WE
 LSBACH-PARK (Treffpunkt hinter „Radler‘s Grill Imbiss“ / gleich neben Ubahn
 -Station Schönbrunn) statt.\n \nDu kannst wie folgt teilnehmen:\nDu alleine
 \nDu als Schwangere\nDu mit Kind und Geschwisterkindern\nDu mit Partner/Par
 tnerin\nDu mit Freundin/Freund, Oma/Opa, Schwester/Bruder,…\n \nKinder bis 
 zum 16. Lebensjahr trainieren gratis. Erwachsene MittrainiererInnen werden 
 einfach auf deiner Kurskarte abgehakt.\nDas Training findet outdoor ganzjäh
 rig bei (fast) jedem Wetter statt. Bitte kleide dich und dein Kind dem Wett
 er entsprechend und nimm eine Wasserflasche mit. Es handelt sich um einen o
 ffenen Kurs. Einstieg ist jederzeit möglich.\n \nWer kann teilnehmen: Schwa
 ngere, Jungmamas (frühestens 6-8 Wochen nach einer Spontangeburt, 12 Wochen
  nach einem Kaiserschnitt) mit oder ohne Baby, Frauen, die gerne in der Gru
 ppe und mit Mamas Sport machen, Geschwisterkinder, Papa, Oma, Opa, Freundin
 nen, usw.\n \nBei mamaFITmit Dani bewegen wir uns im traumhaften Schlosspar
 k Schönbrunn mit unzähligen Möglichkeiten für ein abwechslungsreiches und f
 orderndes Training. Impressionen von den Trainings mit meinen Mamas findest
  du auf meinem mamaFIT mit Dani Instagram Profil (https://www.instagram.com
 /mamafit_mit_dani/).\n \nDetails zum Training bekommst du immer zeitgerecht
  in meiner WhatsApp Gruppe.\nHier kostenlos und unverbindlich für meine Kur
 se registrieren: https://mamafit.at/trainer/daniela-mueller/ (https://mamaf
 it.at/trainer/daniela-mueller/)\n \nEinzelstunde: 15,- €\nFünfer Block: 65,
 - €\nZehner Block: 120,- €\nKombikarte : 120,- € (trainiere 5x bei mir und 
 5x bei mamaFIT mit Natascha oder 5x bei mamaFIT mit Verena)\n
X-ALT-DESC;FMTTYPE=text/html:<p><strong>FAMILY WORKOUT mit mamaFIT mit Dani im Schlosspark Schönbrunn</s
 trong></p><p> </p><p><strong>Treffpunkt:</strong> Liegewiese, 150m links na
 ch Eingang Hietzinger Tor. Die nächste Haltestelle der öffentlichen Verkehr
 smittel ist Hietzing (U4, 10, 52, 60, 51A, 56A, 56B, 58A)</p><p> </p><p><st
 rong>Wann:</strong> Samstag oder Sonntag<br />Datum, Ort und Uhrzeit wird i
 n der WhatsApp Gruppe zeitgerecht bekanntgegeben.</p><p> </p><p>Verena und 
 ich werden uns so gut es geht abwechseln und informieren euch zeitgerecht i
 n unseren Whatsapp Gruppen und über Social Media, wann, wo und bei wem das 
 Family Workout stattfindet.</p><p> </p><p>Es gelten die Kurskarten von mama
 FIT mit Verena UND mamaFIT mit Dani.</p><p> </p><p>Mein Family Workout find
 et vorerst in SCHÖNBRUNN / Hietzinger Seite, statt. Treffpunkt ist wie imme
 r die Liegewiese (Hietzinger Tor, 150m gerade hinein, dann links).</p><p> <
 /p><p>Wenn Verena das Family Workout macht, dann findet dieses entweder in 
 SCHÖNBRUNN / Meidlinger Tor oder im AUER-WELSBACH-PARK (Treffpunkt hinter „
 Radler‘s Grill Imbiss“ / gleich neben Ubahn-Station Schönbrunn) statt.</p><
 p> </p><p><strong>Du kannst wie folgt teilnehmen:</strong><br />Du alleine<
 br />Du als Schwangere<br />Du mit Kind und Geschwisterkindern<br />Du mit 
 Partner/Partnerin<br />Du mit Freundin/Freund, Oma/Opa, Schwester/Bruder,…<
 /p><p> </p><p>Kinder bis zum 16. Lebensjahr trainieren gratis. Erwachsene M
 ittrainiererInnen werden einfach auf deiner Kurskarte abgehakt.</p><p>Das T
 raining findet outdoor ganzjährig bei (fast) jedem Wetter statt. Bitte klei
 de dich und dein Kind dem Wetter entsprechend und nimm eine Wasserflasche m
 it. Es handelt sich um einen offenen Kurs. Einstieg ist jederzeit möglich.<
 /p><p> </p><p><strong>Wer kann teilnehmen:</strong> Schwangere, Jungmamas (
 frühestens 6-8 Wochen nach einer Spontangeburt, 12 Wochen nach einem Kaiser
 schnitt) mit oder ohne Baby, Frauen, die gerne in der Gruppe und mit Mamas 
 Sport machen, Geschwisterkinder, Papa, Oma, Opa, Freundinnen, usw.</p><p> <
 /p><p>Bei mamaFITmit Dani bewegen wir uns im traumhaften Schlosspark Schönb
 runn mit unzähligen Möglichkeiten für ein abwechslungsreiches und fordernde
 s Training. Impressionen von den Trainings mit meinen Mamas findest du auf 
 meinem <a href="https://www.instagram.com/mamafit_mit_dani/" target="_blank
 " rel="noopener noreferrer">mamaFIT mit Dani Instagram Profil</a>.</p><p> <
 /p><p>Details zum Training bekommst du immer zeitgerecht in meiner WhatsApp
  Gruppe.<br />Hier kostenlos und unverbindlich für meine Kurse registrieren
 : <a href="https://mamafit.at/trainer/daniela-mueller/">https://mamafit.at/
 trainer/daniela-mueller/</a></p><p> </p><p>Einzelstunde: 15,- €<br />Fünfer
  Block: 65,- €<br />Zehner Block: 120,- €<br />Kombikarte : 120,- € (traini
 ere 5x bei mir und 5x bei mamaFIT mit Natascha oder 5x bei mamaFIT mit Vere
 na)</p>
CONTACT:daniela.mueller@mamafit.at
X-EXTRAINFO:[preis='1200'][anmeldung='false']
DTSTAMP:20260423T142700
DTSTART:20221001T080000
DTEND:20221001T090000
SEQUENCE:0
RRULE:FREQ=WEEKLY;COUNT=2;INTERVAL=1;BYDAY=SA
TRANSP:OPAQUE
END:VEVENT
END:VCALENDAR