BEGIN:VCALENDAR
VERSION:2.0
PRODID:-//jEvents 2.0 for Joomla//EN
CALSCALE:GREGORIAN
METHOD:PUBLISH
BEGIN:VEVENT
UID:23564d384130211fb1b79e40d203a0f2
CATEGORIES:13. Bezirk
CREATED:19700101T010000
SUMMARY:Mummy&me nach DKKS Brigitta Kuhn (Mama&Baby-Yoga/Babymassage/Babyberatung)
LOCATION:Institut Horizont\, Trauttmansdorffgasse 19/8
DESCRIPTION:Mummy&amp;me nach Brigitta Kuhn \nBrigitta Kuhn ist diplomierte Kinderkrank
 en-und Säuglingsschwester und Yogalehrerin. \nSie hat diesen exklusiven Kur
 s aufgrund ihrer Erfahrungen entwickelt. \nBrigitta Kuhn kann auf eine 26jä
 hrige Erfahrung als DKKS sowohl im Krankenhaus als auch in der mobilen Kind
 erhauskrankenpflege zurückblicken und auf eine 14jährige Erfahrung als Yoga
 lehrerin. \nMummy&amp;me nach Brigitta Kuhn beinhaltet: \n1. Mama und Baby-
 Yoga \n2. professionelle Rückbildung \n3. das Erlernen von indischer Babyma
 ssage \n4. Professionelle Babyberatung  ( Stillberatung, Beikost, sicheres 
 Schlafen, Blähungen, Beikost, Zahnen, Hautpflege, Gesäßpflege, und vieles m
 ehr) \nDieser Kurs wird als 10-Wochenkurs geführt. \nImmer dienstags von 10
 :00-12:00. \nIn exklusiver Kleingruppe im Institut Horizont, Trauttmansdorf
 fgasse 19/8 in 1130 Wien. \n \nTeilnahme nur mit schriftlicher Anmeldung mö
 glich! \nNach Absprache besteht die Möglichkeit eines kostenpflichtigen Sch
 nupperns! \nKosten für 10-Wochenkurs ( 10x 2 Stunden): Euro 275 \n
X-ALT-DESC;FMTTYPE=text/html:<p>Mummy&amp;me nach Brigitta Kuhn </p><p>Brigitta Kuhn ist diplomierte Kin
 derkranken-und Säuglingsschwester und Yogalehrerin. </p><p>Sie hat diesen e
 xklusiven Kurs aufgrund ihrer Erfahrungen entwickelt. </p><p>Brigitta Kuhn 
 kann auf eine 26jährige Erfahrung als DKKS sowohl im Krankenhaus als auch i
 n der mobilen Kinderhauskrankenpflege zurückblicken und auf eine 14jährige 
 Erfahrung als Yogalehrerin. </p><p>Mummy&amp;me nach Brigitta Kuhn beinhalt
 et: </p><p>1. Mama und Baby-Yoga </p><p>2. professionelle Rückbildung </p><
 p>3. das Erlernen von indischer Babymassage </p><p>4. Professionelle Babybe
 ratung  ( Stillberatung, Beikost, sicheres Schlafen, Blähungen, Beikost, Za
 hnen, Hautpflege, Gesäßpflege, und vieles mehr) </p><p>Dieser Kurs wird als
  10-Wochenkurs geführt. </p><p>Immer dienstags von 10:00-12:00. </p><p>In e
 xklusiver Kleingruppe im Institut Horizont, Trauttmansdorffgasse 19/8 in 11
 30 Wien. </p><p> </p><p>Teilnahme nur mit schriftlicher Anmeldung möglich! 
 </p><p>Nach Absprache besteht die Möglichkeit eines kostenpflichtigen Schnu
 pperns! </p><p>Kosten für 10-Wochenkurs ( 10x 2 Stunden): Euro 275 </p>
CONTACT:https://www.yoga-schamanismus.at/mummy-me-yoga/
X-EXTRAINFO:[preis='27500'][anmeldung='true']
DTSTAMP:20260423T112301
DTSTART:20221004T080000
DTEND:20221004T100000
SEQUENCE:0
RRULE:FREQ=WEEKLY;UNTIL=20221214T000000Z;INTERVAL=1;BYDAY=TU
TRANSP:OPAQUE
END:VEVENT
END:VCALENDAR