BEGIN:VCALENDAR
VERSION:2.0
PRODID:-//jEvents 2.0 for Joomla//EN
CALSCALE:GREGORIAN
METHOD:PUBLISH
BEGIN:VEVENT
UID:93aca15bbc11d817d2ebbc0cbd401ef9
CATEGORIES:22. Bezirk
CREATED:20220930T131446
SUMMARY:Fotoshooting: Weihnachtsminis 2022
LOCATION:Haffnergasse 42\, 1220 Wien
DESCRIPTION:<p>Hallo ihr Lieben,</p><p> </p><p>Am</p><p><strong>4./5./6.11 und 18./19./
 20.11.2022</strong></p><p>finden wieder meine jährlichen <strong>Weihnachts
 minisessions</strong> statt.</p><p>Dieses Jahr erwartet euch mein selbstgem
 achter Kamin.</p><p> </p><p>Werde Teil meiner Weihnachtsmini-Familien und ü
 berrasche Mama, Papa, Oma, Opa, Freunde, Bekannte, die Nachbarin, den Nachb
 arn, ... mit einem besonderen Weihnachtsgruß. Möglicherweise in Form meiner
  selbst designten Weihnachtskarten.</p><p> </p><p>Ich freue mich darauf euc
 h wieder oder auch zum ersten Mal bei mir im Studio, für dieses besondere F
 otoshooting, begrüßen zu dürfen.</p><p>Eure Fotografin Sabrina</p><p>------
 -----</p><p><strong>Detailinformationen</strong> findest du unter:</p><p><a
  href="http://www.zischortner.com/minisession2022">www.zischortner.com/mini
 session2022</a></p><p> </p><p>-----------</p><p><strong>Anmeldung:</strong>
 </p><p>Schreibt mir eine E-Mail an sabrina@zischortner.com mit</p><p>eurem 
 Wunschdatum,</p><p>2-3 mögliche Wunschuhrzeiten und</p><p>den Namen plus Al
 ter aller kommenden.</p><p>(Die Termine sind stündlich zu bekommen.)</p><p>
  </p><p>-----------</p><p><strong>Kontakt</strong>:</p><p>Sabrina Zisch-Ort
 ner Photography</p><p>Fotografin für Neugeborenen-, Babybauch-, Meilenstein
 - oder Familienfotografie</p><p>+43 677 625 132 80 I sabrina@zischortner.co
 m I www.zischortner.com</p><p>Fotostudio: Haffnergasse 42, 1220 Wien</p><p>
  </p>
CONTACT:sabrina@zischortner.com | www.zischortner.com | 0677/625 132 80
X-EXTRAINFO:[preis='15900'][anmeldung='true']
DTSTAMP:20260423T102547
DTSTART;VALUE=DATE:20221118
DTEND;VALUE=DATE:20221121
SEQUENCE:0
TRANSP:OPAQUE
END:VEVENT
END:VCALENDAR