BEGIN:VCALENDAR
VERSION:2.0
PRODID:-//jEvents 2.0 for Joomla//EN
CALSCALE:GREGORIAN
METHOD:PUBLISH
BEGIN:VEVENT
UID:318c76cf8fc0d2a8b245ceef67e22c32
CATEGORIES:2. Bezirk
CREATED:20221001T112919
SUMMARY:Babyschreiberatungscafè
LOCATION:Kind &amp; Kegel\, Praterstraße 14/8\, 1020 Wien
DESCRIPTION:In dieser Austauschgruppe erfahren junge Eltern hilfreiches Wissen, warum m
 anche Babys viel weinen und schwer zu trösten sind. Dabei erproben die Elte
 rn auch einfache Körper- und Wahrnehmungsübungen, die im Alltag dabei helfe
 n, die Schrei- und Unruhephasen ihrer Säuglinge einfühlsam und sicher zu be
 gleiten. Weiters besteht die Möglichkeit, sich mit anderen Eltern auszutaus
 chen.\nAnmeldungen über das Eltern-Kind Zentrum Kind &amp; Kegel oder direk
 t an Susanne Schmid, die die Gruppe leitet (hallo@susanneschmid.at (mailto:
 hallo@susanneschmid.at))\nFür weitere Infos: www.susanneschmid.at (http://w
 ww.susanneschmid.at)\n \n
X-ALT-DESC;FMTTYPE=text/html:<p>In dieser Austauschgruppe erfahren junge Eltern hilfreiches Wissen, waru
 m manche Babys viel weinen und schwer zu trösten sind. Dabei erproben die E
 ltern auch einfache Körper- und Wahrnehmungsübungen, die im Alltag dabei he
 lfen, die Schrei- und Unruhephasen ihrer Säuglinge einfühlsam und sicher zu
  begleiten. Weiters besteht die Möglichkeit, sich mit anderen Eltern auszut
 auschen.</p><p>Anmeldungen über das Eltern-Kind Zentrum Kind &amp; Kegel od
 er direkt an Susanne Schmid, die die Gruppe leitet (<a href="mailto:hallo@s
 usanneschmid.at">hallo@susanneschmid.at</a>)</p><p>Für weitere Infos: <a hr
 ef="http://www.susanneschmid.at">www.susanneschmid.at</a></p><p> </p>
CONTACT:info@kind-und-kegel.at  
X-EXTRAINFO:[preis='1500'][anmeldung='true']
DTSTAMP:20260423T174732
DTSTART:20221011T083000
DTEND:20221011T100000
SEQUENCE:0
TRANSP:OPAQUE
END:VEVENT
END:VCALENDAR