BEGIN:VCALENDAR
VERSION:2.0
PRODID:-//jEvents 2.0 for Joomla//EN
CALSCALE:GREGORIAN
METHOD:PUBLISH
BEGIN:VEVENT
UID:b11f2f438921db567f2ad93a953bf254
CATEGORIES:19. Bezirk
CREATED:19700101T010000
SUMMARY:Verspielte Stunde
LOCATION:Raum Ida im Q19
DESCRIPTION:<p>Nach einem Begrüßungslied werden den Babys verschiedene Materialien ange
 boten. Passende Kniereiter und Fingerspiele runden das Angebot ab.</p><p><s
 pan class="text-primary font-weight-bold">Start: </span> 18.10.2022</p><p><
 span class="text-primary font-weight-bold">Mit: </span><a href="https://spi
 elringel.at/angebote/das-team/claudia">Claudia</a></p><p><span class="text-
 primary font-weight-bold">Kurstag: </span> Dienstag 13:30-14:30 im Raum Ida
 , Q19</p><p><span class="text-primary font-weight-bold">Termine: </span> 18
 .10., 25.10., 08.11., 22.11., 29.11.</p><p><span class="text-primary font-w
 eight-bold">Kosten: </span> €70,- (5-Wochen Kurs)</p>
CONTACT:www.spielringel.at
X-EXTRAINFO:[preis='7000'][anmeldung='true']
DTSTAMP:20260423T112005
DTSTART:20221018T113000
DTEND:20221018T123000
SEQUENCE:0
RRULE:FREQ=WEEKLY;UNTIL=20221201T000000Z;INTERVAL=1;BYDAY=TU
EXDATE:20221101T123000,20221115T123000
TRANSP:OPAQUE
END:VEVENT
END:VCALENDAR