BEGIN:VCALENDAR
VERSION:2.0
PRODID:-//jEvents 2.0 for Joomla//EN
CALSCALE:GREGORIAN
METHOD:PUBLISH
BEGIN:VEVENT
UID:96f20b2358d1fff5d116fee3487b155a
CATEGORIES:2. Bezirk
CREATED:20221006T105147
SUMMARY:Magisches Halloween
LOCATION:Treffpunkt bei der Straßenbahnstation „Prater Hauptallee“ der Linie 1
DESCRIPTION:<div class="field-title"><h1>Kräuterzauber und magische Tiere</h1></div><h4
 >Sabine Gangl und ich, Andrea Krall gehen mit euch auf einen magischen Krea
 tiv-Spaziergang. Als Kräuterhexe und magische Tierexpertin zeigen wir euch 
 eine Welt voller magischer Kräuter und Tiere mit Zauberkräften. Dabei orien
 tieren wir uns an dem Jahreskreis und zeigen euch immer wieder neue interes
 sante Pflanzen und Tiere. Natürlich wird auch gebastelt, gemalt, gezupft, g
 erührt und erzählt. Freut euch auf einen magischen Nachmittag!</h4><h4>Magi
 sches Halloween</h4><p>Passend zu Halloween, machen wir gemeinsam einen mag
 ischen Spaziergang. Wir suchen nach Unkraut mit Zauberkräften, entdecken Ti
 ere, um die sich magische Geschichten ranken und zaubern kreative Ideen und
  Rezepte aus dem Zauberhut. Es wird gezupft, gemischt, gelauscht, gebastelt
  … und am Ende nimmt jeder seinen eigenen Zauberstab, einen magischen Zaube
 rtrank und Rezepte mit nach Hause.</p><p>Natürlich dürft ihr verkleidet kom
 men!</p><p><strong>Alter</strong><br />4-6 Jahre</p><p><a href="https://tie
 rischerkreativgarten.at/kurse/kräuterzauber-und-magische-tiere">https://tie
 rischerkreativgarten.at/kurse/kräuterzauber-und-magische-tiere</a></p>
CONTACT: anmeldung@tierischerkreativgarten.at
X-EXTRAINFO:[preis='3800'][anmeldung='true']
DTSTAMP:20260423T144625
DTSTART:20221029T120000
DTEND:20221029T140000
SEQUENCE:0
TRANSP:OPAQUE
END:VEVENT
END:VCALENDAR