BEGIN:VCALENDAR
VERSION:2.0
PRODID:-//jEvents 2.0 for Joomla//EN
CALSCALE:GREGORIAN
METHOD:PUBLISH
BEGIN:VEVENT
UID:dc8dcbf4f2956a5a58e9c454bbfa837a
CATEGORIES:10. Bezirk
CREATED:20221006T105329
SUMMARY:Tierisch kreatives Halloween
LOCATION:Erholungsgebiet Wienerberg\,  Treffpunkt: Gegenüber vom Parkplatz  Grohnerg
 asse 1\, 1100 Wien
DESCRIPTION:<p>Wo kann man sich am besten gruseln als im herbstlichen Wald?</p><p>Wir s
 treifen durch die Wildnis und erkunden "Ekeltiere“, die gar nicht so ekelig
  sind. Unter Steinen und in den Büschen suchen wir die Tierchen, die uns di
 e Gänsehaut über den Rücken laufen lassen. Lauschen den Geräuschen des Wald
 es und sammeln allerhand Material, um unsere eigenen kleinen Kürbismonster 
 und Spinnentierchen zu basteln.</p><p>Es wird "gruselig" und abenteuerlich!
 </p><p>Natürlich dürft ihr auch gerne verkleidet kommen.</p><p> </p><p><a h
 ref="https://tierischerkreativgarten.at/kurse/halloween-workshop">https://t
 ierischerkreativgarten.at/kurse/halloween-workshop</a></p>
CONTACT:anmeldung@tierischerkreativgarten.at
X-EXTRAINFO:[preis='2400'][anmeldung='true']
DTSTAMP:20260423T082707
DTSTART:20221030T083000
DTEND:20221030T103000
SEQUENCE:0
TRANSP:OPAQUE
END:VEVENT
END:VCALENDAR