BEGIN:VCALENDAR
VERSION:2.0
PRODID:-//jEvents 2.0 for Joomla//EN
CALSCALE:GREGORIAN
METHOD:PUBLISH
BEGIN:VEVENT
UID:7dfc130ead951dae4da7d7f3913e0d22
CATEGORIES:18. Bezirk
CREATED:19700101T010000
SUMMARY:Spielgruppe mit Musik für Babys 
LOCATION:Spielringel\, Mollgasse 11-13
DESCRIPTION:<p>Es wird dem Alter und der Entwicklung der Babys entsprechend, gespielt, 
 gesungen, getanzt und musiziert. Musik fördert die Entwicklung von Babys: S
 ie ist gut für die Bewegungskoordination, die Sprachentwicklung, den Gleich
 gewichtssinn und die Bindung zur Bezugsperson. Das beste daran ist, dass es
  einfach Freude macht!</p><p><span class="text-primary font-weight-bold">St
 art: </span> 08.11.2022</p><p><span class="text-primary font-weight-bold">M
 it: </span><a href="https://spielringel.at/angebote/das-team/susanne">Susan
 ne</a></p><p><span class="text-primary font-weight-bold">Kurstag: </span> D
 ienstag 14:00-14:45</p><p><span class="text-primary font-weight-bold">Termi
 ne: </span> 08.11., 15.11., 22.11., 29.11., 06.12.</p><p><span class="text-
 primary font-weight-bold">Kosten: </span> €75,- (5-Wochen Kurs)</p>
CONTACT:www.spielringel.at
X-EXTRAINFO:[preis='7500'][anmeldung='true']
DTSTAMP:20260423T125222
DTSTART:20221108T130000
DTEND:20221108T134500
SEQUENCE:0
RRULE:FREQ=WEEKLY;UNTIL=20221209T000000Z;INTERVAL=1;BYDAY=TU
TRANSP:OPAQUE
END:VEVENT
END:VCALENDAR