BEGIN:VCALENDAR
VERSION:2.0
PRODID:-//jEvents 2.0 for Joomla//EN
CALSCALE:GREGORIAN
METHOD:PUBLISH
BEGIN:VEVENT
UID:fe58340163c2434372be8058a7d429bd
CATEGORIES:18. Bezirk
CREATED:19700101T010000
SUMMARY:Spielgruppe mit Musik für Kleinkinder 
LOCATION:Spielringel\, Mollgasse 11-13
DESCRIPTION:<p>Der Gruppenraum wird zum Erlebnis- und Bewegungsraum. In gemütlicher, ki
 ndgerechter Umgebung können neue Bekanntschaften geschlossen werden.</p><p>
 Jede Stunde regen neue Spielimpulse zum Mitmachen an und geben Anreiz zur l
 eichten Umsetzung zu Hause.</p><p>Dein Kind hat die Möglichkeit sich frei i
 n einer Gruppe Gleichaltriger zu bewegen und dich trotzdem immer als sicher
 en Hafen zur Einkehr bei sich zu haben.</p><p><span class="text-primary fon
 t-weight-bold">Start: </span> 08.11.2022</p><p><span class="text-primary fo
 nt-weight-bold">Mit: </span><a href="https://spielringel.at/angebote/das-te
 am/susanne">Susanne</a></p><p><span class="text-primary font-weight-bold">K
 urstag: </span> Dienstag 15:15-16:00</p><p><span class="text-primary font-w
 eight-bold">Termine: </span> 08.11., 15.11., 22.11., 29.11., 06.12.</p><p><
 span class="text-primary font-weight-bold">Kosten: </span> €75,- (5-Wochen 
 Kurs)</p>
CONTACT:www.spielringel.at
X-EXTRAINFO:[preis='7500'][anmeldung='true']
DTSTAMP:20260423T182810
DTSTART:20221108T141500
DTEND:20221108T150000
SEQUENCE:0
RRULE:FREQ=WEEKLY;UNTIL=20221209T000000Z;INTERVAL=1;BYDAY=TU
TRANSP:OPAQUE
END:VEVENT
END:VCALENDAR