BEGIN:VCALENDAR
VERSION:2.0
PRODID:-//jEvents 2.0 for Joomla//EN
CALSCALE:GREGORIAN
METHOD:PUBLISH
BEGIN:VEVENT
UID:5c026d0df8eef4e50f212739f215bcc9
CATEGORIES:18. Bezirk
CREATED:20221010T114701
SUMMARY:Musik mit Susanne für Babys
LOCATION:Spielringel\, Mollgasse 11-13
DESCRIPTION:<p>An diesem Einzeltermin kannst du dir ansehen, wie eine EInheit der Spiel
 gruppe mit Musik ablaufen kann.</p>
CONTACT:www.spielringel.at
X-EXTRAINFO:[preis='1600'][anmeldung='true']
DTSTAMP:20260423T174411
DTSTART:20221018T120000
DTEND:20221018T124500
SEQUENCE:0
TRANSP:OPAQUE
END:VEVENT
END:VCALENDAR