BEGIN:VCALENDAR
VERSION:2.0
PRODID:-//jEvents 2.0 for Joomla//EN
CALSCALE:GREGORIAN
METHOD:PUBLISH
BEGIN:VEVENT
UID:f0619826c6eaa9e1cc6fe03d436fd0fd
CATEGORIES:18. Bezirk
CREATED:20221010T114757
SUMMARY:Musik mit Susanne für Kleinkinder
LOCATION:Spielringel\, Mollgasse 11-13
DESCRIPTION:An diesem Einzeltermin kannst du dir ansehen, wie eine EInheit der Spielgru
 ppe mit Musik ablaufen kann.\n
X-ALT-DESC;FMTTYPE=text/html:<p>An diesem Einzeltermin kannst du dir ansehen, wie eine EInheit der Spiel
 gruppe mit Musik ablaufen kann.</p>
CONTACT:www.spielringel.at
X-EXTRAINFO:[preis='1600'][anmeldung='true']
DTSTAMP:20260423T144129
DTSTART:20221018T131500
DTEND:20221018T140000
SEQUENCE:0
TRANSP:OPAQUE
END:VEVENT
END:VCALENDAR