BEGIN:VCALENDAR
VERSION:2.0
PRODID:-//jEvents 2.0 for Joomla//EN
CALSCALE:GREGORIAN
METHOD:PUBLISH
BEGIN:VEVENT
UID:b1193bb7e64afb4d5d5a2143d81124ec
CATEGORIES:18. Bezirk
CREATED:20221010T121819
SUMMARY:Musik mit Susanne für Kleinkinder
LOCATION:Spielringel\, Mollgasse 11-13
DESCRIPTION:<p>An diesem Einzeltermin kannst du dir ansehen, wie eine EInheit der Spiel
 gruppe mit Musik ablaufen kann.</p><p><span class="text-primary font-weight
 -bold">Mit: </span><a href="https://spielringel.at/angebote/das-team/susann
 e">Susanne</a></p><p><span class="text-primary font-weight-bold">Kurstag: <
 /span> Mittwoch 15:15-16:00</p><p><span class="text-primary font-weight-bol
 d">Termine: </span> Einzeltermin am 19.10.</p><p><span class="text-primary 
 font-weight-bold">Kosten: </span> €16,-</p>
CONTACT:www.spielringel.at
X-EXTRAINFO:[preis='1600'][anmeldung='true']
DTSTAMP:20260423T144443
DTSTART:20221019T131500
DTEND:20221019T140000
SEQUENCE:0
TRANSP:OPAQUE
END:VEVENT
END:VCALENDAR