BEGIN:VCALENDAR
VERSION:2.0
PRODID:-//jEvents 2.0 for Joomla//EN
CALSCALE:GREGORIAN
METHOD:PUBLISH
BEGIN:VEVENT
UID:a4a31f245098343d1011a39215005bf6
CATEGORIES:18. Bezirk
CREATED:20221010T122302
SUMMARY:Kreative Freude
LOCATION:Spielringel\, Mollgasse 11-13
DESCRIPTION:Kreative FreudeBastelworkshops für Kinder ab 2 Jahren (mit Begleitung)Mit: 
 Claudia (https://spielringel.at/angebote/das-team/claudia)\nKurstag:  Donne
 rstag 14:30-16:00\nKosten:  €25,- pro Kind mit Begleitperson für einen Term
 in\nBei der Kreativen Freude geht es weniger um das Endprodukt, als um den 
 Spaß und die Freude beim Kreativ sein.\nNächste Termine und Themen:\n20.10.
  Monster &amp; Spinnen\n17.11. Sonne, Mond &amp; Sterne\n15.12. Glanz  &amp
 ; Glitzer\n19.01. Eisbären &amp; Pinguine\n \nEs werden verschiedene Bastel
 materialien und Ideen zu einem Thema zur Verfügung gestellt und die Kinder 
 dürfen nach Lust und Laune werken.\nWir malen, basteln, schnippseln, stempe
 ln, stanzen, kleben, formen, usw .-  daher ist es sinnvoll, Gewand, das auc
 h schmutzig werden darf, anzuziehen.\n \n
X-ALT-DESC;FMTTYPE=text/html:<header class="frame-header"><h2 class="element-header ">Kreative Freude</h
 2><h4>Bastelworkshops für Kinder ab 2 Jahren (mit Begleitung)</h4><p><span 
 class="text-primary font-weight-bold">Mit: </span><a href="https://spielrin
 gel.at/angebote/das-team/claudia">Claudia</a></p><p><span class="text-prima
 ry font-weight-bold">Kurstag: </span> Donnerstag 14:30-16:00</p><p><span cl
 ass="text-primary font-weight-bold">Kosten: </span> €25,- pro Kind mit Begl
 eitperson für einen Termin</p><p>Bei der Kreativen Freude geht es weniger u
 m das Endprodukt, als um den Spaß und die Freude beim Kreativ sein.</p><p>N
 ächste Termine und Themen:</p><p>20.10. Monster &amp; Spinnen</p><p>17.11. 
 Sonne, Mond &amp; Sterne</p><p>15.12. Glanz  &amp; Glitzer</p><p>19.01. Eis
 bären &amp; Pinguine</p><p> </p><p>Es werden verschiedene Bastelmaterialien
  und Ideen zu einem Thema zur Verfügung gestellt und die Kinder dürfen nach
  Lust und Laune werken.</p><p>Wir malen, basteln, schnippseln, stempeln, st
 anzen, kleben, formen, usw .-  daher ist es sinnvoll, Gewand, das auch schm
 utzig werden darf, anzuziehen.</p><p> </p></header>
CONTACT:www.spielringel.at
X-EXTRAINFO:[preis='2500'][anmeldung='true']
DTSTAMP:20260423T172331
DTSTART:20221117T133000
DTEND:20221117T150000
SEQUENCE:0
TRANSP:OPAQUE
END:VEVENT
END:VCALENDAR