BEGIN:VCALENDAR
VERSION:2.0
PRODID:-//jEvents 2.0 for Joomla//EN
CALSCALE:GREGORIAN
METHOD:PUBLISH
BEGIN:VEVENT
UID:00e9a7f04d0db92df6614491fe080c17
CATEGORIES:2. Bezirk
CREATED:20221012T122146
SUMMARY:Schlafberatungscafe
LOCATION:EKiZ Kind&amp;Kegel\, 1020 Praterstraße 14/8
DESCRIPTION:SchlafberatungscaféDas Schlafverhalten von Babys und Kleinkindern kann hera
 usfordernd sein und viele Fragen aufwerfen wie z.B.: Wieso will mein Kind n
 ur im Arm oder bei mir im Bett schlafen? Wieso schläft mein Kind nicht durc
 h? Ist es in Ordnung wenn ich mein Kind beim Einschlafen stille? Verwöhne i
 ch mein Kind wenn ich es beim Einschlafen begleite? Das ist ganz normal, vi
 elen Eltern geht es ähnlich.\nBei einer heißen Tasse Kaffee oder Tee seid i
 hr eingeladen, euch mit anderen Eltern auszutauschen und lernt dabei versch
 iedene Schlafsituationen kennen. Für eure individuellen Fragen und Anliegen
  steht Viktoria (1001kindernacht® Schlafberaterin, Psychologin, Pädagogin u
 nd 4fache Mama) bereit und zeigt Möglichkeiten auf, wie sich eure Schlafsit
 uation entspannen könnte.\nTermine: Mittwoch,\n 05.10., 12.10., 19.10., 09.
 11., 16.11., 23.11., 30.11., 07.12., 14.12.22, jeweils von 10:00-11:15 Uhr\
 n\n Kosten: € 10,- pro Einheit / Fünferblock € 45,- / 9 Einheiten € 85,-\n 
 Anmeldung erforderlich!
X-ALT-DESC;FMTTYPE=text/html:<h2>Schlafberatungscafé</h2><p>Das Schlafverhalten von Babys und Kleinkinde
 rn kann herausfordernd sein und viele Fragen aufwerfen wie z.B.: Wieso will
  mein Kind nur im Arm oder bei mir im Bett schlafen? Wieso schläft mein Kin
 d nicht durch? Ist es in Ordnung wenn ich mein Kind beim Einschlafen stille
 ? Verwöhne ich mein Kind wenn ich es beim Einschlafen begleite? Das ist gan
 z normal, vielen Eltern geht es ähnlich.</p><p>Bei einer heißen Tasse Kaffe
 e oder Tee seid ihr eingeladen, euch mit anderen Eltern auszutauschen und l
 ernt dabei verschiedene Schlafsituationen kennen. Für eure individuellen Fr
 agen und Anliegen steht Viktoria (1001kindernacht® Schlafberaterin, Psychol
 ogin, Pädagogin und 4fache Mama) bereit und zeigt Möglichkeiten auf, wie si
 ch eure Schlafsituation entspannen könnte.</p><table><tbody><tr><td><span c
 lass="fett">Termine</span>: Mittwoch,<br /> 05.10., 12.10., 19.10., 09.11.,
  16.11., 23.11., 30.11., 07.12., 14.12.22, jeweils von 10:<span class="klei
 nhoch">00</span>-11:<span class="kleinhoch">15</span> Uhr<br /><br /> <span
  class="fett">Kosten</span>: € 10,- pro Einheit / Fünferblock € 45,- / 9 Ei
 nheiten € 85,-<br /> Anmeldung erforderlich!</td></tr></tbody></table>
CONTACT:01 503 71 88, info@kind-und-kegel.at, www.kind-und-kegel.at
X-EXTRAINFO:[preis='1000'][anmeldung='true']
DTSTAMP:20260423T171606
DTSTART:20221019T080000
DTEND:20221019T091500
SEQUENCE:0
TRANSP:OPAQUE
END:VEVENT
END:VCALENDAR