BEGIN:VCALENDAR
VERSION:2.0
PRODID:-//jEvents 2.0 for Joomla//EN
CALSCALE:GREGORIAN
METHOD:PUBLISH
BEGIN:VEVENT
UID:56c47265fce169655c7d67b370574784
CATEGORIES:2. Bezirk
CREATED:19700101T010000
SUMMARY:Schlafberatungscafe
LOCATION:EKiZ Kind&amp;Kegel\, 1020 Praterstraße 14/8
DESCRIPTION:<h2>Schlafberatungscafé</h2><p>Das Schlafverhalten von Babys und Kleinkinde
 rn kann herausfordernd sein und viele Fragen aufwerfen wie z.B.: Wieso will
  mein Kind nur im Arm oder bei mir im Bett schlafen? Wieso schläft mein Kin
 d nicht durch? Ist es in Ordnung wenn ich mein Kind beim Einschlafen stille
 ? Verwöhne ich mein Kind wenn ich es beim Einschlafen begleite? Das ist gan
 z normal, vielen Eltern geht es ähnlich.</p><p>Bei einer heißen Tasse Kaffe
 e oder Tee seid ihr eingeladen, euch mit anderen Eltern auszutauschen und l
 ernt dabei verschiedene Schlafsituationen kennen. Für eure individuellen Fr
 agen und Anliegen steht Viktoria (1001kindernacht® Schlafberaterin, Psychol
 ogin, Pädagogin und 4fache Mama) bereit und zeigt Möglichkeiten auf, wie si
 ch eure Schlafsituation entspannen könnte.</p><table><tbody><tr><td><span c
 lass="fett">Termine</span>: Mittwoch,<br /> 05.10., 12.10., 19.10., 09.11.,
  16.11., 23.11., 30.11., 07.12., 14.12.22, jeweils von 10:<span class="klei
 nhoch">00</span>-11:<span class="kleinhoch">15</span> Uhr<br /><br /> <span
  class="fett">Kosten</span>: € 10,- pro Einheit / Fünferblock € 45,- / 9 Ei
 nheiten € 85,-<br /> Anmeldung erforderlich!</td></tr></tbody></table><p> <
 /p>
CONTACT:01 503 71 88, info@kind-und-kegel.at, www.kind-und-kegel.at
X-EXTRAINFO:[preis='1000'][anmeldung='true']
DTSTAMP:20260423T142008
DTSTART:20221109T090000
DTEND:20221109T101500
SEQUENCE:0
RRULE:FREQ=WEEKLY;COUNT=5;INTERVAL=1;BYDAY=WE
TRANSP:OPAQUE
END:VEVENT
END:VCALENDAR