BEGIN:VCALENDAR
VERSION:2.0
PRODID:-//jEvents 2.0 for Joomla//EN
CALSCALE:GREGORIAN
METHOD:PUBLISH
BEGIN:VEVENT
UID:d7565846f86df0e00a3a6058be0afb98
CATEGORIES:2. Bezirk
CREATED:20221012T122730
SUMMARY:Kaiserschnittgeburt - Austauschgruppe 
LOCATION:EKiZ Kind&amp;Kegel\, 1020 Praterstraße 14/8
DESCRIPTION:Austauschgruppe für Mamas nach KaiserschnittgeburtenEs war kein Spaziergang
 ...Für Mamas und Neugeborene, die mit den Folgen eines ungeplanten Kaisersc
 hnitts oder eines Notkaiserschnitts zu kämpfen haben. Hier ist Platz, um in
  geschütztem Rahmen Fragen zu stellen, sich auszutauschen und viele hilfrei
 che Tipps und Anregungen zu bekommen.\nTermine: Dienstag,\n 20.09, 18.10, 2
 2.11 und 13.12, jeweils von von 1030 - 1200 Uhr\n Kosten: € 15,- pro Einhei
 t / 4 Einheiten € 55,-\n Anmeldung erforderlich! \n
X-ALT-DESC;FMTTYPE=text/html:<h2>Austauschgruppe für Mamas nach Kaiserschnittgeburten</h2><h3>Es war kei
 n Spaziergang...</h3><p>Für Mamas und Neugeborene, die mit den Folgen eines
  ungeplanten Kaiserschnitts oder eines Notkaiserschnitts zu kämpfen haben. 
 Hier ist Platz, um in geschütztem Rahmen Fragen zu stellen, sich auszutausc
 hen und viele hilfreiche Tipps und Anregungen zu bekommen.</p><table><tbody
 ><tr><td><span class="fett">Termine:</span> Dienstag,<br /> 20.09, 18.10, 2
 2.11 und 13.12, jeweils von von 10<span class="kleinhoch">30</span> - 12<sp
 an class="kleinhoch">00</span> Uhr<br /> <span class="fett">Kosten: </span>
 € 15,- pro Einheit / 4 Einheiten € 55,-<br /> Anmeldung erforderlich!</td><
 /tr></tbody></table><p> </p>
CONTACT:01 503 71 88, info@kind-und-kegel.at, www.kind-und-kegel.at
X-EXTRAINFO:[preis='1500'][anmeldung='true']
DTSTAMP:20260423T141652
DTSTART:20221213T093000
DTEND:20221213T110000
SEQUENCE:0
TRANSP:OPAQUE
END:VEVENT
END:VCALENDAR