BEGIN:VCALENDAR
VERSION:2.0
PRODID:-//jEvents 2.0 for Joomla//EN
CALSCALE:GREGORIAN
METHOD:PUBLISH
BEGIN:VEVENT
UID:491f64ba0e804f03f6f2aba7f7341599
CATEGORIES:2. Bezirk
CREATED:20221012T123056
SUMMARY:Keine Angst vor Babytränen - Vortrag
LOCATION:EKiZ Kind&amp;Kegel\, 1020 Praterstraße 14/8
DESCRIPTION:<h2 class="unterstrich">Keine Angst vor Babytränen! [Vortrag]</h2><p>Folgen
 de Inhalte werden im Vortrag behandelt:</p><ul><li>Warum weinen Babys?</li>
 <li>Verschiedene Formen des Weinens erkennen</li><li>Körperliche und emotio
 nale Zeichen von Überlastung der Eltern nach der Geburt</li><li>Verbesserun
 g der Kontaktfähigkeit der Eltern durch zentrierende Bauchatmung</li><li>Ei
 nsatz von Körper- und Wahrnehmungsübungen</li><li>Empfehlungen für den allt
 äglichen Umgang mit einem weinenden Baby</li></ul><table><tbody><tr><td><sp
 an class="fett">Termin</span>:<br /> Donnerstag, 13.10.22, 15<span class="k
 leinhoch">30</span> - 17<span class="kleinhoch">00</span> Uhr<br /> Donners
 tag, 15.12.22, 15<span class="kleinhoch">30</span> - 17<span class="kleinho
 ch">00</span> Uhr <br /> <span class="fett">Kosten</span>: € 23,- pro Termi
 n (€ 41,- für Paare),<br /> Anmeldung erforderlich !</td></tr></tbody></tab
 le><p> </p>
CONTACT:01 503 71 88, info@kind-und-kegel.at, www.kind-und-kegel.at
X-EXTRAINFO:[preis='2300'][anmeldung='true']
DTSTAMP:20260423T174523
DTSTART:20221013T133000
DTEND:20221013T150000
SEQUENCE:0
TRANSP:OPAQUE
END:VEVENT
END:VCALENDAR