BEGIN:VCALENDAR
VERSION:2.0
PRODID:-//jEvents 2.0 for Joomla//EN
CALSCALE:GREGORIAN
METHOD:PUBLISH
BEGIN:VEVENT
UID:53b66b735240c67d01ab588b8edfe42a
CATEGORIES:2. Bezirk
CREATED:20221012T123413
SUMMARY:Emotionale Vorbereitung Kaiserschnitt - Workshop
LOCATION:EKiZ Kind&amp;Kegel\, 1020 Praterstraße 14/8
DESCRIPTION:Emotionale Vorbereitung auf den Kaiserschnitt für Eltern und Babys [Worksho
 p] \nWenn eine Entbindung durch Kaiserschnitt geplant ist oder erforderlich
  werden könnte, dann bringt das einige Besonderheiten für die Eltern und da
 s Baby mit sich:\n Das frühzeitige Wissen um diese speziellen Herausforderu
 ngen und die Auseinandersetzung damit, trägt in hohem Ausmaß zu einem leich
 tgängigeren Umgang mit diesem oftmals kontroversen Thema bei. Daraus ergibt
  sich ein bindungsstärkender Effekt, der den Grundstein für eine liebevolle
  Eltern-Kind-Beziehung legt.\nDieser Workshop richtet sich an werdende Elte
 rn im letzten Trimester der Schwangerschaft (ab der 28. SSW), die sich und 
 ihr Baby optimal auf den bevorstehenden oder möglichen Kaiserschnitt vorber
 eiten wollen.\nTermine:\n Donnerstag, 13.10.22, 1830 - 2000 Uhr\n Donnersta
 g, 15.12.22, 1830 - 2000 Uhr \n Kosten: € 23,- pro Termin (€ 41,- für Paare
 ), Anmeldung erforderlich!
X-ALT-DESC;FMTTYPE=text/html:<h2 class="unterstrich">Emotionale Vorbereitung auf den Kaiserschnitt für E
 ltern und Babys [Workshop]</h2><p> </p><p><b>Wenn eine Entbindung durch Kai
 serschnitt geplant ist oder erforderlich werden könnte, dann bringt das ein
 ige Besonderheiten für die Eltern und das Baby mit sich</b>:<br /> Das früh
 zeitige Wissen um diese speziellen Herausforderungen und die Auseinanderset
 zung damit, trägt in hohem Ausmaß zu einem leichtgängigeren Umgang mit dies
 em oftmals kontroversen Thema bei. Daraus ergibt sich ein bindungsstärkende
 r Effekt, der den Grundstein für eine liebevolle Eltern-Kind-Beziehung legt
 .</p><p>Dieser Workshop richtet sich an werdende Eltern im letzten Trimeste
 r der Schwangerschaft (ab der 28. SSW), die sich und ihr Baby optimal auf d
 en bevorstehenden oder möglichen Kaiserschnitt vorbereiten wollen.</p><tabl
 e><tbody><tr><td><span class="fett">Termine:<br /> </span>Donnerstag, 13.10
 .22, 18<span class="kleinhoch">30</span> - 20<span class="kleinhoch">00</sp
 an> Uhr<br /> Donnerstag, 15.12.22, 18<span class="kleinhoch">30</span> - 2
 0<span class="kleinhoch">00</span> Uhr <br /> <span class="fett">Kosten</sp
 an>: € 23,- pro Termin (€ 41,- für Paare), Anmeldung erforderlich!</td></tr
 ></tbody></table>
CONTACT:01 503 71 88, info@kind-und-kegel.at, www.kind-und-kegel.at
X-EXTRAINFO:[preis='2300'][anmeldung='true']
DTSTAMP:20260423T094452
DTSTART:20221215T173000
DTEND:20221215T190000
SEQUENCE:0
TRANSP:OPAQUE
END:VEVENT
END:VCALENDAR