BEGIN:VCALENDAR
VERSION:2.0
PRODID:-//jEvents 2.0 for Joomla//EN
CALSCALE:GREGORIAN
METHOD:PUBLISH
BEGIN:VEVENT
UID:fadf55ac7dfd8adc92b6ff329615723c
CATEGORIES:2. Bezirk
CREATED:20221012T221610
SUMMARY:Austauschgruppe für Mamas nach Kaiserschnittgeburten
LOCATION:Kind &amp; Kegel\, Praterstraße 14/8\, 1020 Wien
DESCRIPTION:Für Mamas und Babys, die mit den Folgen eines ungeplanten Kaiserschnitts od
 er eines Notkaiserschnitts zu kämpfen haben. Hier ist Platz, um in geschütz
 tem Rahmen Fragen zu stellen, sich auszutauschen und viele hilfreiche Tipps
  und Anregungen zu bekommen.\n
X-ALT-DESC;FMTTYPE=text/html:<p>Für Mamas und Babys, die mit den Folgen eines ungeplanten Kaiserschnitts
  oder eines Notkaiserschnitts zu kämpfen haben. Hier ist Platz, um in gesch
 ütztem Rahmen Fragen zu stellen, sich auszutauschen und viele hilfreiche Ti
 pps und Anregungen zu bekommen.</p>
CONTACT:hallo@susanneschmid.at
X-EXTRAINFO:[preis='1500'][anmeldung='true']
DTSTAMP:20260423T185934
DTSTART:20221018T083000
DTEND:20221018T100000
SEQUENCE:0
TRANSP:OPAQUE
END:VEVENT
END:VCALENDAR