BEGIN:VCALENDAR
VERSION:2.0
PRODID:-//jEvents 2.0 for Joomla//EN
CALSCALE:GREGORIAN
METHOD:PUBLISH
BEGIN:VEVENT
UID:600983a24b85d8d3541dfc4d8462f47a
CATEGORIES:Wien Umgebung
CREATED:19700101T010000
SUMMARY:Eltern-Kind Spielraum nach Pikler (7-12 Monate)
LOCATION:ProMami Wienerwald\, 3003 Gablitz\, Bachgasse 1
DESCRIPTION:Eltern-Kind Spielraum im Sinne der Kleinkindpädagogik von Emmi Pikler\nfür 
 Kinder von 7-12 Monaten, Spielraumleitung: Nora Weisshuhn\n8 Termine und 2 
 Eltern-Gesprächstermine, €180\nOrt: ProMami Wienerwald, Therapiezentrum Gab
 litz, 3003 Gablitz, Bachgasse 1\nDer Spielraum ist eine begleitete Eltern-K
 ind Gruppe, die fortlaufend wöchentlich stattfindet.\nIm Spielraum nach Pik
 ler können Kinder ab 7 Monaten in einer sicheren Umgebung auf Entdeckungsre
 ise gehen.\nEltern können beobachten wie ihr Kind den Raum erforscht, mit g
 eeignetem Spielmaterial experimentiert, und welche Fähigkeiten es von Woche
  zu Woche entwickelt. \nDer Raum ist den Spielinteressen und Entwicklungsth
 emen der Kinder entsprechend vorbereitet. Die Aufmerksamkeit und die Präsen
 z der Erwachsenen begleitet die Kinder in ihrem Bedürfnis nach Spiel, Beweg
 ung und Kontakt. Die gemeinsam erlebte Freude nährt die Beziehung zueinande
 r.\nAnmeldung und weitere Infos:\nwww.spielbogen.at (http://www.spielbogen.
 at/)\n \n
X-ALT-DESC;FMTTYPE=text/html:<p><b>Eltern-Kind Spielraum im Sinne der Kleinkindpädagogik von Emmi Pikler
 </b></p><p>für Kinder von 7-12 Monaten, Spielraumleitung: Nora Weisshuhn</p
 ><p>8 Termine und 2 Eltern-Gesprächstermine, €180</p><p>Ort: ProMami Wiener
 wald, Therapiezentrum Gablitz, 3003 Gablitz, Bachgasse 1</p><p><b>Der Spiel
 raum ist eine begleitete Eltern-Kind Gruppe, die fortlaufend wöchentlich st
 attfindet.</b></p><p>Im Spielraum nach Pikler können Kinder ab 7 Monaten in
  einer sicheren Umgebung auf Entdeckungsreise gehen.</p><p>Eltern können be
 obachten wie ihr Kind den Raum erforscht, mit geeignetem Spielmaterial expe
 rimentiert, und welche Fähigkeiten es von Woche zu Woche entwickelt. </p><p
 >Der Raum ist den Spielinteressen und Entwicklungsthemen der Kinder entspre
 chend vorbereitet. Die Aufmerksamkeit und die Präsenz der Erwachsenen begle
 itet die Kinder in ihrem Bedürfnis nach Spiel, Bewegung und Kontakt. Die ge
 meinsam erlebte Freude nährt die Beziehung zueinander.</p><p>Anmeldung und 
 weitere Infos:</p><p><a href="http://www.spielbogen.at/">www.spielbogen.at<
 /a></p><p> </p>
CONTACT:post@spielbogen.at
X-EXTRAINFO:[preis='18000'][anmeldung='true']
DTSTAMP:20260423T112352
DTSTART:20221104T081500
DTEND:20221104T091500
SEQUENCE:0
RRULE:FREQ=WEEKLY;UNTIL=20221224T000000Z;INTERVAL=1;BYDAY=FR
TRANSP:OPAQUE
END:VEVENT
END:VCALENDAR