BEGIN:VCALENDAR
VERSION:2.0
PRODID:-//jEvents 2.0 for Joomla//EN
CALSCALE:GREGORIAN
METHOD:PUBLISH
BEGIN:VEVENT
UID:2b17064fa967802a7359c9035a5dfdd3
CATEGORIES:17. Bezirk
CREATED:20221013T183915
SUMMARY:Vegetarische Ernährung im Kindesalter
LOCATION:Online
DESCRIPTION:Online Vortrag: Vegetarische Ernährung im Kindesalter!\nGeht das? Kann ich 
 mein Kind vegetarisch ernähren? Braucht es unbedingt Fleisch oder gibt es a
 ndere Möglichkeiten? Ab wann ist eine vegetarische Ernährung möglich? Das T
 hema und der Informationsbedarf rund um eine vegetarische Ernährung auch sc
 hon im Kindesalter werden immer größer. Informieren Sie sich über die aktue
 lle Situation, Studien und Expertenmeinung in meinem Vortrag.\nAnmeldung: h
 ttps://www.kinderarztpraxis-schumanngasse.at/kurse/vegetarische-ernaehrung-
 im-kindesalter/ (https://www.kinderarztpraxis-schumanngasse.at/kurse/vegeta
 rische-ernaehrung-im-kindesalter/)\nNach Einzahlung des Kursbeitrages wird 
 der Link verschickt.\nIch freue mich auf Euer Interesse\nVroni Ottenschläge
 r\nErnährungsberatung\n
X-ALT-DESC;FMTTYPE=text/html:<p style="font-weight: 400;">Online Vortrag: Vegetarische Ernährung im Kind
 esalter!</p><p style="font-weight: 400;">Geht das? Kann ich mein Kind veget
 arisch ernähren? Braucht es unbedingt Fleisch oder gibt es andere Möglichke
 iten? Ab wann ist eine vegetarische Ernährung möglich? Das Thema und der In
 formationsbedarf rund um eine vegetarische Ernährung auch schon im Kindesal
 ter werden immer größer. Informieren Sie sich über die aktuelle Situation, 
 Studien und Expertenmeinung in meinem Vortrag.</p><p style="font-weight: 40
 0;">Anmeldung: <a href="https://www.kinderarztpraxis-schumanngasse.at/kurse
 /vegetarische-ernaehrung-im-kindesalter/">https://www.kinderarztpraxis-schu
 manngasse.at/kurse/vegetarische-ernaehrung-im-kindesalter/</a></p><p style=
 "font-weight: 400;">Nach Einzahlung des Kursbeitrages wird der Link verschi
 ckt.</p><p style="font-weight: 400;">Ich freue mich auf Euer Interesse</p><
 p style="font-weight: 400;">Vroni Ottenschläger</p><p style="font-weight: 4
 00;">Ernährungsberatung</p>
CONTACT:veronika.ottenschlaeger@kinderarztpraxis-schumanngasse.at
X-EXTRAINFO:[preis='2500'][anmeldung='true']
DTSTAMP:20260423T094622
DTSTART:20221020T160000
DTEND:20221020T170000
SEQUENCE:0
TRANSP:OPAQUE
END:VEVENT
END:VCALENDAR