BEGIN:VCALENDAR
VERSION:2.0
PRODID:-//jEvents 2.0 for Joomla//EN
CALSCALE:GREGORIAN
METHOD:PUBLISH
BEGIN:VEVENT
UID:ee0ed919ae8b9574fd1b42766dab97bc
CATEGORIES:3. Bezirk
CREATED:19700101T010000
SUMMARY:Geschwisterkurs
LOCATION:Landstraßer Hauptstraße\, 1030 Wien
DESCRIPTION:Der Geschwisterkurs richtet sich an zukünftige "große" Schwestern und "groß
 e" Brüder.\n\nEs ist so schön ein neues Familienmitglied zu erwarten und do
 ch eine große Umstellung für alle, im Geschwisterkurs werden die kleinen Te
 ilnehmer auf ihre Rolle als großer Bruder oder große Schwester vorbereitet.
  \n\nDie Bedürfnisse des Babys werden erklärt und sie lernen spielerisch de
 n Umgang mit dem Neugeborenen.\n\n\n - Was macht das Baby in Mamas Bauch\n 
 - Wo ist Mama, wenn das Baby geboren wird\n - Wie wird das Baby getragen\n 
 - Worauf muss man beim Wickeln achten\n - Warum braucht ein Baby so viel Au
 fmerksamkeit von Mama und Papa\n - Was kann ein neugeborenes Baby\n - Wie k
 ann ich Mama und Papa helfen\n - Was isst ein Baby Durch den Geschwisterkur
 s wird das Interesse sowie Verständnis am Familienzuwachs geweckt und Unsic
 herheiten oder Ängste verringert.\n\nDer Geschwisterkurs eignet sich für al
 le werdenden großen Schwestern und Brüder im Alter von 2,5 - 6 Jahren. Am E
 nde des Kurses gibt es eine Urkunde und es wird gemeinsam ein Geschenk für 
 das neue Familienmitglied gebastelt. Der Kurs umfasst 3 Termine zu jeweils 
 einer Stunde, der erste Kurs startet am 08.11.2022 und findet jeweils Diens
 tags von 14:30-15:30 statt. Unter https://kikudoo.com/for-little-ones  (htt
 ps://kikudoo.com/for-little-ones)kann die Kursbuchung vorgenommen werden.  
 Ich freue mich sehr auf euch Susannewww.for-little-ones.com (http://www.for
 -little-ones.com)office@for-little-ones.com (mailto:office@for-little-ones.
 com)06801582648
X-ALT-DESC;FMTTYPE=text/html:<div>Der <strong>Geschwisterkurs </strong>richtet sich an zukünftige "große
 " Schwestern und "große" Brüder.<br /><br />Es ist so schön ein neues Famil
 ienmitglied zu erwarten und doch eine große Umstellung für alle, im Geschwi
 sterkurs werden die kleinen Teilnehmer auf ihre Rolle als großer Bruder ode
 r große Schwester vorbereitet. <br /><br />Die Bedürfnisse des Babys werden
  erklärt und sie lernen spielerisch den Umgang mit dem Neugeborenen.<br /><
 br /></div><ul><li>Was macht das Baby in Mamas Bauch</li><li>Wo ist Mama, w
 enn das Baby geboren wird</li><li>Wie wird das Baby getragen</li><li>Worauf
  muss man beim Wickeln achten</li><li>Warum braucht ein Baby so viel Aufmer
 ksamkeit von Mama und Papa</li><li>Was kann ein neugeborenes Baby</li><li>W
 ie kann ich Mama und Papa helfen</li><li>Was isst ein Baby</li></ul><div> <
 /div><div>Durch den Geschwisterkurs wird das Interesse sowie Verständnis am
  Familienzuwachs geweckt und Unsicherheiten oder Ängste verringert.<br /><b
 r />Der Geschwisterkurs eignet sich für alle werdenden großen Schwestern un
 d Brüder im Alter von 2,5 - 6 Jahren. Am Ende des Kurses gibt es eine Urkun
 de und es wird gemeinsam ein Geschenk für das neue Familienmitglied gebaste
 lt.</div><div> </div><div>Der Kurs umfasst 3 Termine zu jeweils einer Stund
 e, der erste Kurs startet am 08.11.2022 und findet jeweils Dienstags von 14
 :30-15:30 statt.</div><div> </div><div>Unter <a href="https://kikudoo.com/f
 or-little-ones">https://kikudoo.com/for-little-ones </a>kann die Kursbuchun
 g vorgenommen werden. </div><div> </div><div>Ich freue mich sehr auf euch</
 div><div> </div><div>Susanne</div><div><a href="http://www.for-little-ones.
 com">www.for-little-ones.com</a></div><div><a href="mailto:office@for-littl
 e-ones.com">office@for-little-ones.com</a></div><div>06801582648</div>
CONTACT:for little ones
X-EXTRAINFO:[preis='000'][anmeldung='true']
DTSTAMP:20260425T170350
DTSTART:20221108T133000
DTEND:20221108T143000
SEQUENCE:0
RRULE:FREQ=WEEKLY;UNTIL=20221124T000000Z;INTERVAL=3;BYDAY=TU
TRANSP:OPAQUE
END:VEVENT
END:VCALENDAR