BEGIN:VCALENDAR
VERSION:2.0
PRODID:-//jEvents 2.0 for Joomla//EN
CALSCALE:GREGORIAN
METHOD:PUBLISH
BEGIN:VEVENT
UID:f01c9c89804f8d002023dc035816bf89
CATEGORIES:6. Bezirk
CREATED:19700101T010000
SUMMARY:Mukifit - Fitness für Mütter 
LOCATION:Mariahilfer Strasse 76
DESCRIPTION:Du wirst fit und dein Kind kann mit. Für alle Mütter die trainieren möchten
  aber keine Betreuung für ihr Kind haben. Meine Tochter ist auch immer dabe
 i!\nTrainiert wird Kraft und Ausdauer.\nSchnuppern ist gratis aber nicht um
 sonst ?\nIhr findet mich auf Instagram unter Mukifit oder als Miss Bodydril
 l..\nIch freue mich auf euch ???\n
X-ALT-DESC;FMTTYPE=text/html:<p>Du wirst fit und dein Kind kann mit. Für alle Mütter die trainieren möch
 ten aber keine Betreuung für ihr Kind haben. Meine Tochter ist auch immer d
 abei!</p><p>Trainiert wird Kraft und Ausdauer.</p><p>Schnuppern ist gratis 
 aber nicht umsonst ?</p><p>Ihr findet mich auf Instagram unter Mukifit oder
  als Miss Bodydrill..</p><p>Ich freue mich auf euch ???</p>
CONTACT:magicbine@hotmail.com
X-EXTRAINFO:[preis='1500'][anmeldung='true']
DTSTAMP:20260423T144332
DTSTART:20221025T163000
SEQUENCE:0
RRULE:FREQ=WEEKLY;UNTIL=20221224T000000Z;INTERVAL=1;BYDAY=TU
TRANSP:OPAQUE
END:VEVENT
END:VCALENDAR