BEGIN:VCALENDAR
VERSION:2.0
PRODID:-//jEvents 2.0 for Joomla//EN
CALSCALE:GREGORIAN
METHOD:PUBLISH
BEGIN:VEVENT
UID:dee04c1b5afbe555572798b4a196c966
CATEGORIES:Wien Umgebung
CREATED:20221018T083445
SUMMARY:Winter- & Advents-Kreativworkshop 
LOCATION:craftort Lanzendorf bei Wien
DESCRIPTION:\n Zum 1.Advent gestalten und basteln wir zum Thema Winter und Advent! Wint
 erlandschaften, Schneeflocken- und männer, Schifahrer, Papier-Adventkränze 
 für die Tür, uvm.\n \n Wann: Sonntag, den 27.11.22 \n Bitte die Uhrzeiten j
 e nach Alter des Kindes beachten. \nFür Kinder von 1,5 bis 4 Jahre (+ 1 Beg
 leitperson) -&gt; 10-11:30 Uhr\n Für Kinder von 5 bis 10 Jahre (ohne Beglei
 tperson!) -&gt; 15-16:30 Uhr\nKosten: 32,-€, Geschwisterkinder 27,-€ (inkl.
  Material, Obst &amp; Saft)\n \n ANMELDUNG mit Namen &amp; Telefonnummer, N
 amen &amp; Alter des Kindes per E-Mail an: info@craftort.at (mailto:info@cr
 aftort.at)\n Mindestteilnehmerzahl: 5\n \n Wo: „craftort“, Andreas Radlinge
 r-Str. 1a, 2326 Lanzendorf b. Wien \n &gt;Öffentliche Verkehrsmittel: S-Bah
 n (vom Hbf Wien) bis Lanzendorf-Rannersdorf Bhf + Bus bis Gärtnerei oder Fu
 ßweg (ca 15 Min),  \n &gt;Mit dem Auto: S1 Abfahrt Rannersdorf. Öffentliche
  Parkplätze vorhanden.\nIch freue mich auf kunterbunte Workshops mit euch, 
 eure Sonja!\n \n Änderungen und Durchführung vorbehalten.\nDie nächsten Ter
 mine: \n Do, 08.12.22 (Feiertag) Advents-Kreativworkshop mit Kekserlwerksta
 tt\n So, 18.12.22 Weihnachts-Kreativworkshop\n Details in der jeweiligen Fa
 cebook-Veranstaltung und auf der Webseite. \n Anmeldung per E-Mail erforder
 lich.\n
X-ALT-DESC;FMTTYPE=text/html:<p><br /> Zum 1.Advent gestalten und basteln wir zum Thema Winter und Adven
 t! Winterlandschaften, Schneeflocken- und männer, Schifahrer, Papier-Advent
 kränze für die Tür, uvm.<br /> <br /> Wann: Sonntag, den <strong>27.11.22 <
 /strong><br /> Bitte die Uhrzeiten je nach Alter des Kindes beachten. </p><
 p>Für Kinder von 1,5 bis 4 Jahre (+ 1 Begleitperson) -&gt; 10-11:30 Uhr<br 
 /> Für Kinder von 5 bis 10 Jahre (ohne Begleitperson!) -&gt; 15-16:30 Uhr</
 p><p>Kosten: 32,-€, Geschwisterkinder 27,-€ (inkl. Material, Obst &amp; Saf
 t)<br /> <br /> ANMELDUNG mit Namen &amp; Telefonnummer, Namen &amp; Alter 
 des Kindes per E-Mail an: <a href="mailto:info@craftort.at">info@craftort.a
 t</a><br /> Mindestteilnehmerzahl: 5<br /> <br /> Wo: „craftort“, Andreas R
 adlinger-Str. 1a, 2326 Lanzendorf b. Wien <br /> &gt;Öffentliche Verkehrsmi
 ttel: S-Bahn (vom Hbf Wien) bis Lanzendorf-Rannersdorf Bhf + Bus bis Gärtne
 rei oder Fußweg (ca 15 Min),  <br /> &gt;Mit dem Auto: S1 Abfahrt Rannersdo
 rf. Öffentliche Parkplätze vorhanden.</p><p>Ich freue mich auf kunterbunte 
 Workshops mit euch, eure Sonja!<br /> <br /> Änderungen und Durchführung vo
 rbehalten.</p><p><strong>Die nächsten Termine: </strong><br /> <strong>Do, 
 08.12.22 (Feiertag) Advents-Kreativworkshop mit Kekserlwerkstatt<br /> So, 
 18.12.22 Weihnachts-Kreativworkshop</strong><br /> Details in der jeweilige
 n Facebook-Veranstaltung und auf der Webseite. <br /> Anmeldung per E-Mail 
 erforderlich.</p>
CONTACT:www.craftort.at
X-EXTRAINFO:[preis='3200'][anmeldung='true']
DTSTAMP:20260423T194908
DTSTART:20221127T090000
DTEND:20221127T103000
SEQUENCE:0
TRANSP:OPAQUE
END:VEVENT
END:VCALENDAR