BEGIN:VCALENDAR
VERSION:2.0
PRODID:-//jEvents 2.0 for Joomla//EN
CALSCALE:GREGORIAN
METHOD:PUBLISH
BEGIN:VEVENT
UID:87f175766a3bee4391a7f6fecbaea9cc
CATEGORIES:1. Bezirk
CREATED:20221020T102834
SUMMARY:Das Baby kommt mit! Rundgang durch das Weltmuseum Wien
LOCATION:Weltmuseum Wien\, Heldenplatz 1010 Wien
DESCRIPTION:<p style="font-weight: 400;"><strong>Führung durch das Weltmuseum Wien für 
 Mamas und Papas mit ihren Babys</strong>. </p><p style="font-weight: 400;">
 Liebenswert wie eine Schmuckfeder war das ungeborene Baby für die Azteken. 
 Aus Quetzalfedern ist auch der berühmt-berüchtigte altmexikanische Federkop
 fschmuck – eines von vielen interessanten Objekten der Schausammlung des We
 ltmuseums Wien. Nehmen Sie ihr Baby mit und lernen sie einige der Highlight
 s der Museumssammlung kennen, während sie gleichzeitig Geschichten zu Fruch
 tbarkeit, Schöpfungsmythen und das Wunder des neuen Lebens erfahren. Währen
 d Inspiration, Unterhaltung und Anregung nicht zu kurz kommen, wird auf die
  Bedürfnisse der kleinsten Besucher*innen eingegangen – Schaukeln, Stillen 
 und Wickeln sind willkommen; Weinen, Quengeln und Kichern dürfen sein! Auch
  das Baby der Kulturvermittlerin wird in der Trage der Führung beiwohnen.</
 p><p style="font-weight: 400;">Das Tragen in einer Tragehilfe wird empfohle
 n, Kinderwägen sind jedenfalls auch erlaubt. Wickel- und Stillmöglichkeit s
 ind gegeben.</p><p style="font-weight: 400;"><strong>Dauer:</strong> 60 Min
 .<br /><strong>Teilnahme:</strong> € 6 (gültiges Museumsticket erforderlich
 )<br /><a href="https://shop.khm.at/tickets/detail/?shop%5bshowItem%5d=2000
 00000006170-T138-01">Tickets erhalten Sie online</a> oder an der Kassa<br /
 ><strong>Treffpunkt:</strong> Säulenhalle</p><p style="font-weight: 400;"> 
 </p><p style="font-weight: 400;">https://www.weltmuseumwien.at/programm/eve
 nt/das-baby-kommt-mit/1667516400-2/</p>
CONTACT:kulturvermittlung@weltmuseumwien.at
X-EXTRAINFO:[preis='600'][anmeldung='false']
DTSTAMP:20260423T124643
DTSTART:20221104T093000
DTEND:20221104T103000
SEQUENCE:0
TRANSP:OPAQUE
END:VEVENT
END:VCALENDAR