BEGIN:VCALENDAR
VERSION:2.0
PRODID:-//jEvents 2.0 for Joomla//EN
CALSCALE:GREGORIAN
METHOD:PUBLISH
BEGIN:VEVENT
UID:ce69de3f0637f012c9a7e76d85740308
CATEGORIES:6. Bezirk
CREATED:19700101T010000
SUMMARY:Montessori orientierte Spielgruppe
LOCATION:6.\, Sandwirtgasse 13/12
DESCRIPTION:Montessori orientierte SpielgruppeKursleitung: Julia\nKurstag: Montag\nKurs
 zeit:\n- 14.30 - 15.30 Uhr für 1 - 2,5 Jahre\n- 16.00 - 17.00 Uhr für 1 - 2
 ,5 Jahre\nSpielgruppen mit dem Schwerpunkt Sinnesschulung\n- Übungen zur Ve
 rbesserung von Konzentration und Wortschatz\n- Schulung der Feinmotorik\n- 
 Übungen des praktischen Lebens \n- Kuschel- und Streichelspiele\n- Lieder &
 amp; Reime\n \nDie Montessori orientierte Spielgruppe ist ein Ort, an dem K
 inder im Alter von 1 bis 2,5 Jahre mit Montessori-Materialien Selbstständig
 keit, Konzentration und Verantwortung entwickeln können.\nDie Kinder sind e
 ingeladen, die Montessori Materialien in der sorgfältig und liebevoll vorbe
 reiteten Umgebung für sich zu entdecken und reichlich damit zu experimentie
 ren. Ich unterstütze die Kinder unter dem Motto „Hilf mir, es selbst zu tun
 “.  Die Kinder erleben sich selbstwirksam und selbstständig, was in weitere
 r Folge zur Stärkung des Selbstvertrauens führt.\nZu Beginn und zum Ende un
 sere Spielgruppe treffen wir uns in einem gemeinsamen Kreis, in dem wir Lie
 der singen, Fingerspiele und Reime sprechen, welche den Kindern große Freud
 e bereitet und auch die Sprachentwicklung positiv unterstützt.\nDurch die l
 ustvolle Beschäftigung mit den Materialien können die Kinder ihrem natürlic
 hen Lern- und Entwicklungsdrang folgen. Dabei werden die Auge-Hand-Koordina
 tion, Kunst, grobmotorische Entwicklung, Sprache, Musik, praktische Fertigk
 eiten, Selbstpflege und die sozial-emotionale Kompetenz geschult.\nTermine 
 im Wintersemester 2022/2023Oktober 2022 24.10\nNovember 2022 7., 14.11.\nJä
 nner 2023 9., 16., 23., 30.1.\nEinstieg jederzeit möglich!Flexibel mit der 
 Biolino Blockkarte: www.biolino.at/Blockkarte (https://www.biolino.at/spiel
 gruppen/die-blockkarte/) \nweitere Infos unter\nwww.biolino.at (http://www.
 biolino.at)\nmartina.novak@biolino.at, (mailto:martina.novak@biolino.at,)\n
 0677 628 929 70\nSandwirtgasse 13/12,\n1060 Wien\n \nWir freuen uns auf euc
 h! :-)\nMartina und das Biolino Team\n
X-ALT-DESC;FMTTYPE=text/html:<h2>Montessori orientierte Spielgruppe</h2><p><strong>Kursleitung</strong>:
  Julia</p><p><strong>Kurstag</strong>: Montag</p><p><strong>Kurszeit</stron
 g>:</p><p>- 14.30 - 15.30 Uhr für 1 - 2,5 Jahre</p><p>- 16.00 - 17.00 Uhr f
 ür 1 - 2,5 Jahre</p><p><strong>Spielgruppen mit dem Schwerpunkt Sinnesschul
 ung</strong></p><p>- Übungen zur Verbesserung von Konzentration und Wortsch
 atz</p><p>- Schulung der Feinmotorik</p><p>- Übungen des praktischen Lebens
  </p><p>- Kuschel- und Streichelspiele</p><p>- Lieder &amp; Reime</p><p> </
 p><p>Die Montessori orientierte Spielgruppe ist ein Ort, an dem Kinder im A
 lter von 1 bis 2,5 Jahre mit Montessori-Materialien Selbstständigkeit, Konz
 entration und Verantwortung entwickeln können.</p><p>Die Kinder sind eingel
 aden, die Montessori Materialien in der sorgfältig und liebevoll vorbereite
 ten Umgebung für sich zu entdecken und reichlich damit zu experimentieren. 
 Ich unterstütze die Kinder unter dem Motto „Hilf mir, es selbst zu tun“.  D
 ie Kinder erleben sich selbstwirksam und selbstständig, was in weiterer Fol
 ge zur Stärkung des Selbstvertrauens führt.</p><p>Zu Beginn und zum Ende un
 sere Spielgruppe treffen wir uns in einem gemeinsamen Kreis, in dem wir Lie
 der singen, Fingerspiele und Reime sprechen, welche den Kindern große Freud
 e bereitet und auch die Sprachentwicklung positiv unterstützt.</p><p>Durch 
 die lustvolle Beschäftigung mit den Materialien können die Kinder ihrem nat
 ürlichen Lern- und Entwicklungsdrang folgen. Dabei werden die Auge-Hand-Koo
 rdination, Kunst, grobmotorische Entwicklung, Sprache, Musik, praktische Fe
 rtigkeiten, Selbstpflege und die sozial-emotionale Kompetenz geschult.</p><
 h3>Termine im Wintersemester 2022/2023</h3><p><strong>Oktober</strong> <str
 ong>2022</strong> 24.10</p><p><strong>November</strong> <strong>2022</stron
 g> 7., 14.11.</p><p><strong>Jänner</strong> <strong>2023</strong> 9., 16., 
 23., 30.1.</p><h2><span lang="DE-AT">Einstieg jederzeit möglich!</span></h2
 ><h2><span lang="DE-AT">Flexibel mit der Biolino Blockkarte: <a href="https
 ://www.biolino.at/spielgruppen/die-blockkarte/">www.biolino.at/Blockkarte</
 a></span></h2><p><span lang="DE-AT"> </span></p><p><span lang="DE-AT">weite
 re Infos unter</span></p><p><span lang="DE-AT"><a href="http://www.biolino.
 at">www.biolino.at</a></span></p><p><span lang="DE-AT"><a href="mailto:mart
 ina.novak@biolino.at,">martina.novak@biolino.at,</a></span></p><p><span lan
 g="DE-AT">0677 628 929 70</span></p><p><span lang="DE-AT">Sandwirtgasse 13/
 12,</span></p><p><span lang="DE-AT">1060 Wien</span></p><p><span lang="DE-A
 T"> </span></p><p><span lang="DE-AT">Wir freuen uns auf euch! :-)</span></p
 ><p><span lang="DE-AT">Martina und das Biolino Team</span></p>
CONTACT:martina.novak@biolino.at, 067762892970
X-EXTRAINFO:[preis='2200'][anmeldung='true']
DTSTAMP:20260423T162702
DTSTART:20221024T123000
DTEND:20221024T133000
SEQUENCE:0
RRULE:FREQ=WEEKLY;UNTIL=20221115T000000Z;INTERVAL=1;BYDAY=MO
TRANSP:OPAQUE
END:VEVENT
END:VCALENDAR