BEGIN:VCALENDAR
VERSION:2.0
PRODID:-//jEvents 2.0 for Joomla//EN
CALSCALE:GREGORIAN
METHOD:PUBLISH
BEGIN:VEVENT
UID:db2fe87dd98a35c6cd4a102bd8a04d07
CATEGORIES:6. Bezirk
CREATED:20221023T102126
SUMMARY:Bewegungswelt
LOCATION:6.\, Sandwirtgasse 13/12
DESCRIPTION:<h2>Spielgruppe Bewegungswelt</h2><h3>Für Kinder von 8 bis 18 Monaten</h3><
 p> </p><p><strong>Kurstage</strong>: Dienstag von 9.30 - 10.30 mit Lisa</p>
 <p><strong>Kurstag:</strong> Donnerstag von 11.00 - 12.00 Uhr  mit Alischa<
 /p><p><br /> <strong>Spielgruppe mit Bewegungsschwerpunkt</strong></p><p>- 
 Kletterbogen oder Kletterdreieck</p><p>- Krabbelkiste</p><p>- Kriechtunnel<
 /p><p>- Bewegungs-Landschaften</p><p>- Ballspiele</p><p>- Sing- und Bewegun
 gsspiele</p><p>Die <strong>Bewegungswelt</strong>  ist für Kinder von <stro
 ng>8 -18 Monate.</strong></p><p>Wir krabbeln, kuscheln, singen, springen, k
 riechen und tanzen – und haben gemeinsam jede Menge Spaß. So stärken wir Kö
 rpergefühl, Grobmotorik und die Lust, uns zu bewegen.</p><p> </p><p>Zu Begi
 nn starten wir gemeinsam mit einigen Bewegungsliedern. Dann bauen wir eine 
 bunte Bewegungslandschaft auf. Dieses bietet unterschiedlichste Bewegungsmö
 glichkeiten und Bewegungserfahrungen. Deinem Kind wird dadurch großräumige 
 Bewegungserfahrungen ermöglicht.</p><p>Beim Klettern, Rutschen, Rollen, Kra
 bbeln, Balancieren, Springen und vielem mehr hat dein Kinder die Chance für
  eigenständige Entscheidungen und lernen so seine/ihre Fähigkeiten einzusch
 ätzen und zu erweitern.<br /> Die Bewegungslandschaft greift Anregungen aus
  der Natur auf und lässt sie in  die Bewegungsförderung einfließen.</p><h3>
 Termine im Wintersemester 2022/2023</h3><p><strong>September</strong> <stro
 ng>2022</strong> 15., 22., 29.7.</p><p><strong>Oktober</strong> <strong>202
 2</strong>  6., 13., 20., 27.10.</p><p><strong>November</strong> <strong>20
 22</strong> 3., 10., 17., 24.11.</p><p><strong>Dezember</strong> <strong>20
 22</strong> 1., 15.12.</p><p>In den Weihnachtsferien geschlossen!</p><p><st
 rong>Jänner</strong> <strong>2023</strong> 12., 19., 26.1.</p><h2>Einstieg 
 jederzeit möglich!</h2><h2>Flexibel mit der Biolino Blockkarte: <a href="ht
 tps://www.biolino.at/spielgruppen/die-blockkarte/">www.biolino.at/Blockkart
 e</a></h2><p> </p><p>weitere Infos unter</p><p><a href="http://www.biolino.
 at">www.biolino.at</a></p><p><a href="mailto:martina.novak@biolino.at,">mar
 tina.novak@biolino.at,</a></p><p>0677 628 929 70</p><p>Sandwirtgasse 13/12,
 </p><p>1060 Wien</p><p> </p><p>Wir freuen uns auf euch! :-)</p><p>Martina u
 nd das Biolino Team</p>
CONTACT:martina.novak@biolino.at, 067762892970
X-EXTRAINFO:[preis='2200'][anmeldung='true']
DTSTAMP:20260423T163059
DTSTART:20221027T090000
DTEND:20221027T100000
SEQUENCE:0
TRANSP:OPAQUE
END:VEVENT
END:VCALENDAR