BEGIN:VCALENDAR
VERSION:2.0
PRODID:-//jEvents 2.0 for Joomla//EN
CALSCALE:GREGORIAN
METHOD:PUBLISH
BEGIN:VEVENT
UID:f59d07bcf0f0b5e20b91fa0a4ec44503
CATEGORIES:6. Bezirk
CREATED:20221023T183631
SUMMARY:Baby-Cafe - Papa Spezial mit PapaInfo
LOCATION:6.\, Sandwirtgasse 13/12
DESCRIPTION:<h1>Baby-Café - Spezial für Papas mit Dieter von PapaInfo</h1><h2> </h2><p>
 <strong>Bei richtig gutem Fair-Trade-Kaffee und leckerem selbstgemachten Bi
 o-Gugelhupf kannst du dich entspannt zurücklehnen, deinem Kind beim Spielen
  in unseren übersichtlichen, kindersicheren Räumlichkeiten zusehen und mit 
 anderen Papas plaudern.</strong></p><p> </p><p><strong>Wann</strong>: Donne
 rstag, 3.11.</p><p><strong>Uhrzeit</strong>: 15.00 - 17.00 Uhr</p><p><stron
 g>Wo</strong>: Biolino Institut, Sandwirtgasse 13, 1060 Wien</p><p><strong>
 Kosten</strong>: € 12,- Eintritt inkl. Bio-Kaffee (oder Bio-Tee, Bio-Kakao,
  Bio-Saft) und Bio-Gugelhupf (oder Bio-Obst) und Spielebeitrag Nur Barzahlu
 ng!</p><p><strong>Mit Anmeldung: </strong> <a href="https://www.biolino.at/
 baby-cafe/">https://www.biolino.at/baby-cafe/</a></p><p> </p><p>Schau vorbe
 i zum Spielen und Plaudern mit anderen Papas</p><p>Wir freuen uns auf dich!
 </p><p>Alles Liebe,</p><p>Dieter und Martina</p>
CONTACT:martina.novak@biolino.at, 067762892970
X-EXTRAINFO:[preis='1200'][anmeldung='true']
DTSTAMP:20260423T160543
DTSTART:20221103T140000
DTEND:20221103T160000
SEQUENCE:0
TRANSP:OPAQUE
END:VEVENT
END:VCALENDAR