BEGIN:VCALENDAR
VERSION:2.0
PRODID:-//jEvents 2.0 for Joomla//EN
CALSCALE:GREGORIAN
METHOD:PUBLISH
BEGIN:VEVENT
UID:cc87c08c6fcdbab3922ec9d4624f2189
CATEGORIES:3. Bezirk
CREATED:20221026T110730
SUMMARY:YOGA ZUM KENNENLERNEN für Anfänger 
LOCATION:Kreativraum\, Hörnesgasse 18\, 1030 Wien
DESCRIPTION:YOGA zum Kennenlernen \n! für Anfänger geeignet ! \nkomm zu diesem Kennenle
 rntag OHNE ANMELDUNG \nYoga hilft dir in deine innere Ruhe zu kommen. Ich b
 in Julia, 2-fache Mama und Yoga hilft mir wieder bewusst meinen Atem wahrzu
 nehmen und meine innere Ruhe zu finden . Probiere es einfach aus und komm i
 n meine Kurse \nWir machen klassische Yogaübungen und fokussieren uns auf d
 en Atem.\nWo: Kreativraum, Hörnesgasse 18, 1030 Wien\nPreise: Gruppenstunde
 n 18,- Euro\nEinzelstunde auf Anfrage \nIch unterrichte uns 3 verschiedene 
 Studios in Wien\nund biete Einzel- und Gruppenstunden an\nbesuche auch mein
 e Webseite www.yogapalace.at (http://www.yogapalace.at) \n \n
X-ALT-DESC;FMTTYPE=text/html:<p style="text-align: left;">YOGA zum Kennenlernen </p><p style="text-align
 : left;">! für Anfänger geeignet ! <br />komm zu diesem Kennenlerntag OHNE 
 ANMELDUNG <br />Yoga hilft dir in deine innere Ruhe zu kommen. Ich bin Juli
 a, 2-fache Mama und Yoga hilft mir wieder bewusst meinen Atem wahrzunehmen 
 und meine innere Ruhe zu finden . Probiere es einfach aus und komm in meine
  Kurse <br />Wir machen klassische Yogaübungen und fokussieren uns auf den 
 Atem.</p><p style="text-align: left;">Wo: Kreativraum, Hörnesgasse 18, 1030
  Wien</p><p style="text-align: left;">Preise: Gruppenstunden 18,- Euro</p><
 p style="text-align: left;">Einzelstunde auf Anfrage </p><p style="text-ali
 gn: left;">Ich unterrichte uns 3 verschiedene Studios in Wien</p><p style="
 text-align: left;">und biete Einzel- und Gruppenstunden an</p><p style="tex
 t-align: left;">besuche auch meine Webseite <a href="http://www.yogapalace.
 at">www.yogapalace.at</a> </p><p style="text-align: left;"> </p>
CONTACT:julia_yoga@posteo.at 
X-EXTRAINFO:[preis='000'][anmeldung='false']
DTSTAMP:20260423T164616
DTSTART:20221027T080000
DTEND:20221027T090000
SEQUENCE:0
TRANSP:OPAQUE
END:VEVENT
END:VCALENDAR