BEGIN:VCALENDAR
VERSION:2.0
PRODID:-//jEvents 2.0 for Joomla//EN
CALSCALE:GREGORIAN
METHOD:PUBLISH
BEGIN:VEVENT
UID:de050a001065dd8a146e864afad8b429
CATEGORIES:19. Bezirk
CREATED:19700101T010000
SUMMARY:Bewegte Spielgruppe
LOCATION:Raum Ida im Q19
DESCRIPTION:Bewegte Spielgruppefür Kleinkinder 1-2,5 Jahre (mit Begleitung)Den Spaß an 
 Bewegung fördern und dabei die Grobmotorik und das Körpergefühl schulen. Wi
 r tanzen, turnen, singen, kriechen und  kuscheln durch den Jahreskreis. Ent
 wicklungsgerechtes Material steht für Sinneseindrücke zur Verfügung. In ein
 er Gruppe von Gleichaltrigen macht es gleich doppelt so viel Spaß!\nStart: 
  11.11.2022\nMit: Uschi (https://spielringel.at/angebote/das-team/uschi-stu
 ffer)\nKurstag:  Freitag 11:30-12:30 im Raum Ida, Q19\nTermine:  11.11., 18
 .11., 25.11., 02.12., 09.12.\nKosten:  €75,- (5-Wochen Kurs)\n
X-ALT-DESC;FMTTYPE=text/html:<header class="frame-header"><h2 class="element-header ">Bewegte Spielgrupp
 e</h2><h4>für Kleinkinder 1-2,5 Jahre (mit Begleitung)</h4><p>Den Spaß an B
 ewegung fördern und dabei die Grobmotorik und das Körpergefühl schulen. Wir
  tanzen, turnen, singen, kriechen und  kuscheln durch den Jahreskreis. Entw
 icklungsgerechtes Material steht für Sinneseindrücke zur Verfügung. In eine
 r Gruppe von Gleichaltrigen macht es gleich doppelt so viel Spaß!</p><p><sp
 an class="text-primary font-weight-bold">Start: </span> 11.11.2022</p><p><s
 pan class="text-primary font-weight-bold">Mit: </span><a href="https://spie
 lringel.at/angebote/das-team/uschi-stuffer">Uschi</a></p><p><span class="te
 xt-primary font-weight-bold">Kurstag: </span> Freitag 11:30-12:30 im Raum I
 da, Q19</p><p><span class="text-primary font-weight-bold">Termine: </span> 
 11.11., 18.11., 25.11., 02.12., 09.12.</p><p><span class="text-primary font
 -weight-bold">Kosten: </span> €75,- (5-Wochen Kurs)</p></header>
CONTACT:www.spielringel.at
X-EXTRAINFO:[preis='7500'][anmeldung='true']
DTSTAMP:20260423T141653
DTSTART:20221111T103000
DTEND:20221111T113000
SEQUENCE:0
RRULE:FREQ=WEEKLY;UNTIL=20221212T000000Z;INTERVAL=1;BYDAY=FR
TRANSP:OPAQUE
END:VEVENT
END:VCALENDAR