BEGIN:VCALENDAR
VERSION:2.0
PRODID:-//jEvents 2.0 for Joomla//EN
CALSCALE:GREGORIAN
METHOD:PUBLISH
BEGIN:VEVENT
UID:fb175d7611aacf7a7b5e27ed7875dfab
CATEGORIES:2. Bezirk
CREATED:20221102T200720
SUMMARY:Babyschreiberatungscafè
LOCATION:Kind &amp; Kegel\, Praterstraße 14/8\, 1020 Wien
DESCRIPTION:In dieser Austauschgruppe erfahren junge Eltern hilfreiches Wissen, warum m
 anche Babys viel weinen und nur schwer zu trösten sind. Dabei erproben die 
 Eltern auch einfache Körper- und Wahrnehmungsübungen, die im Alltag dabei h
 elfen, die Schrei- und Unruhephasen ihrer Säuglinge einfühlsam und sicher z
 u begleiten.\n
X-ALT-DESC;FMTTYPE=text/html:<p>In dieser Austauschgruppe erfahren junge Eltern hilfreiches Wissen, waru
 m manche Babys viel weinen und nur schwer zu trösten sind. Dabei erproben d
 ie Eltern auch einfache Körper- und Wahrnehmungsübungen, die im Alltag dabe
 i helfen, die Schrei- und Unruhephasen ihrer Säuglinge einfühlsam und siche
 r zu begleiten.</p>
CONTACT:hallo@susanneschmid.at
X-EXTRAINFO:[preis='1500'][anmeldung='true']
DTSTAMP:20260423T171523
DTSTART:20221108T093000
DTEND:20221108T110000
SEQUENCE:0
TRANSP:OPAQUE
END:VEVENT
END:VCALENDAR