BEGIN:VCALENDAR
VERSION:2.0
PRODID:-//jEvents 2.0 for Joomla//EN
CALSCALE:GREGORIAN
METHOD:PUBLISH
BEGIN:VEVENT
UID:f7693738433f51c63f0245fe5951efca
CATEGORIES:10. Bezirk
CREATED:19700101T010000
SUMMARY:Tierisch kreativer Advent
LOCATION:Grohnergasse 1\, 1100 Wien
DESCRIPTION:Warm eingepackt treffen wir uns zum Adventspaziergang durch die Natur und a
 m Teich entlang. Dort sehen wir nach, welche Tiere noch wach sind und wie s
 ich die Natur verändert hat. Außerdem sammeln wir auf dem Weg alles was uns
  nützlich erscheint - Zapfen, Äste, Steine etc.\nWenn wir ein nettes Plätzc
 hen zum Rasten gefunden haben, basteln wir aus dem gesammelten Naturmateria
 l Christbaumschmuck, Musikinstrumente und Weihnachtsdekoration.\nZum Abschl
 uss gestalten wir noch einen improvisierten Adventkranz und lassen den Ausf
 lug ausklingen.\n \nAlter2 bis 6 Jahre\nNatürlich sind jüngere und ältere G
 eschwister willkommen.\n \nKosten24 Euro (2 Stunden) pro Eltern-Kind-Paar\n
 Es handelt sich um einen Eltern-Kind-Workshop, weshalb immer eine Begleitpe
 rson anwesend sein muss.\n Diese Begleitperson hat auch die Aufsichtspflich
 t. Geschwisterrabatt auf Anfrage!\n \nTreffpunktErholungsgebiet Wienerberg,
  gegenüber vom Parkplatz\nGrohnergasse 1, 1100 Wien\nÖffentliche Erreichbar
 keit:\n U6 bis Station „Am Schöpfwerk”, Autobuslinie 16A bis Station “ Comp
 uterstraße”, ca. 5 Gehminuten\n  \nAnmeldungEinfach per E-Mail an anmeldung
 @tierischerkreativgarten.at (mailto:anmeldung@tierischerkreativgarten.at)\n
 Mehr Infos: https://tierischerkreativgarten.at (https://tierischerkreativga
 rten.at)\n
X-ALT-DESC;FMTTYPE=text/html:<div class="group-left"><div class="field-text"><p>Warm eingepackt treffen 
 wir uns zum Adventspaziergang durch die Natur und am Teich entlang. Dort se
 hen wir nach, welche Tiere noch wach sind und wie sich die Natur verändert 
 hat. Außerdem sammeln wir auf dem Weg alles was uns nützlich erscheint - Za
 pfen, Äste, Steine etc.</p><p>Wenn wir ein nettes Plätzchen zum Rasten gefu
 nden haben, basteln wir aus dem gesammelten Naturmaterial Christbaumschmuck
 , Musikinstrumente und Weihnachtsdekoration.</p><p>Zum Abschluss gestalten 
 wir noch einen improvisierten Adventkranz und lassen den Ausflug ausklingen
 .</p><p> </p>Alter<p>2 bis 6 Jahre</p><p>Natürlich sind jüngere und ältere 
 Geschwister willkommen.</p><p> </p><h4>Kosten</h4><p>24 Euro (2 Stunden) pr
 o Eltern-Kind-Paar</p><p>Es handelt sich um einen Eltern-Kind-Workshop, wes
 halb immer eine Begleitperson anwesend sein muss.<br /> Diese Begleitperson
  hat auch die Aufsichtspflicht. Geschwisterrabatt auf Anfrage!</p><p> </p><
 h4>Treffpunkt</h4><p>Erholungsgebiet Wienerberg, gegenüber vom Parkplatz</p
 ><p>Grohnergasse 1, 1100 Wien</p><p><strong>Öffentliche Erreichbarkeit:</st
 rong><br /> U6 bis Station „Am Schöpfwerk”, Autobuslinie 16A bis Station “ 
 Computerstraße”, ca. 5 Gehminuten<br />  </p><h4>Anmeldung</h4><p>Einfach p
 er E-Mail an <a href="mailto:anmeldung@tierischerkreativgarten.at">anmeldun
 g@tierischerkreativgarten.at</a></p><p>Mehr Infos: <a href="https://tierisc
 herkreativgarten.at">https://tierischerkreativgarten.at</a></p></div></div>
CONTACT:anmeldung@tierischerkreativgarten.at
X-EXTRAINFO:[preis='2400'][anmeldung='true']
DTSTAMP:20260423T141611
DTSTART:20221127T083000
DTEND:20221127T103000
SEQUENCE:0
RRULE:FREQ=WEEKLY;COUNT=3;INTERVAL=1;BYDAY=SU
TRANSP:OPAQUE
END:VEVENT
END:VCALENDAR