BEGIN:VCALENDAR
VERSION:2.0
PRODID:-//jEvents 2.0 for Joomla//EN
CALSCALE:GREGORIAN
METHOD:PUBLISH
BEGIN:VEVENT
UID:6622f2f643aec49e6c2e397e364a516e
CATEGORIES:12. Bezirk
CREATED:20221111T141709
SUMMARY:Workshop - Immunstärkende Öle 
LOCATION:Careccino- Sagedergasse 18-22 
DESCRIPTION:Was sind ätherische Öle ? Welche\nunterstützen dich besonders in der\nkalte
 n Jahreszeit &amp; das Immunsystem\ndeiner Familie?\nGemeinsam machen wir e
 inen KutzKutz\nSirup, einen Immunstärkenden Roll On\n8 einen Superhelden Sp
 ray! Die\nProdukte darfst du mit nach Hause\nnehmen, Rezepte zum Nachmachen
 \ngibts natürlich dazu!\n\nKosten: 30€\nAnmeldefrist: 13.11.22\n
X-ALT-DESC;FMTTYPE=text/html:<p>Was sind ätherische Öle ? Welche<br />unterstützen dich besonders in der
 <br />kalten Jahreszeit &amp; das Immunsystem<br />deiner Familie?<br />Gem
 einsam machen wir einen KutzKutz<br />Sirup, einen Immunstärkenden Roll On<
 br />8 einen Superhelden Spray! Die<br />Produkte darfst du mit nach Hause<
 br />nehmen, Rezepte zum Nachmachen<br />gibts natürlich dazu!</p><p><br />
 Kosten: 30€<br />Anmeldefrist: 13.11.22</p>
CONTACT:+43 670 3593925 - Hana 
X-EXTRAINFO:[preis='000'][anmeldung='true']
DTSTAMP:20260423T094519
DTSTART:20221118T090000
DTEND:20221118T110000
SEQUENCE:0
TRANSP:OPAQUE
END:VEVENT
END:VCALENDAR